BEGIN:VCALENDAR
VERSION:2.0
PRODID:-//ChamberMaster//Event Calendar 2.0//EN
METHOD:PUBLISH
X-PUBLISHED-TTL:P3D
REFRESH-INTERVAL:P3D
CALSCALE:GREGORIAN
BEGIN:VEVENT
DTSTART:20210323T223000Z
DTEND:20210324T020000Z
X-MICROSOFT-CDO-ALLDAYEVENT:FALSE
SUMMARY:2021 Spring Candidate Forums
DESCRIPTION:Tuesday\, March 23\n\n5:30PM - School Board Candidates\n\n7:30PM - Village Board Candidates\n\nThis is NOT A PUBLIC EVENT. \n\nThe public must tune into this link:\n\nhttps://villageofgermantown.my.webex.com/villageofgermantown.my/j.php?MTID=ma8993f65de54bc90e5b294a220698ca8
X-ALT-DESC;FMTTYPE=text/html:<p style="box-sizing: border-box\; margin: 0px 0px 10px\; font-size: 16px\; color: rgb(51\, 51\, 51)\; font-family: Questrial\, sans-serif\; text-align: center\; background-color: rgb(255\, 255\, 255)\;">Tuesday\, March 23<br style="box-sizing: border-box\;" />\n5:30PM - School Board Candidates<br style="box-sizing: border-box\;" />\n7:30PM - Village Board Candidates</p>\n\n<p style="box-sizing: border-box\; margin: 0px 0px 10px\; font-size: 16px\; color: rgb(51\, 51\, 51)\; font-family: Questrial\, sans-serif\; text-align: center\; background-color: rgb(255\, 255\, 255)\;">This is NOT A PUBLIC EVENT.&nbsp\;<br style="box-sizing: border-box\;" />\nThe public must tune into this link:</p>\n\n<p style="box-sizing: border-box\; margin: 0px 0px 10px\; font-size: 16px\; color: rgb(51\, 51\, 51)\; font-family: Questrial\, sans-serif\; text-align: center\; background-color: rgb(255\, 255\, 255)\;"><span style="font-size: 10.5pt\; font-family: Arial\, sans-serif\;"><a href="https://villageofgermantown.my.webex.com/villageofgermantown.my/j.php?MTID=ma8993f65de54bc90e5b294a220698ca8" target="_blank"><span style="color: rgb(0\, 94\, 125)\; text-decoration-line: none\;">https://villageofgermantown.my.webex.com/villageofgermantown.my/j.php?MTID=ma8993f65de54bc90e5b294a220698ca8</span></a></span></p>\n
LOCATION:Virtual via webex https://villageofgermantown.my.webex.com/villageofgermantown.my/j.php?MTID=ma8993f65de54bc90e5b294a220698ca8
UID:e.2331.4038
SEQUENCE:3
DTSTAMP:20260421T005117Z
URL:https://www.germantownchamber.org/events/details/2021-spring-candidate-forums-4038
END:VEVENT

END:VCALENDAR
