BEGIN:VCALENDAR
VERSION:2.0
PRODID:-//ChamberMaster//Event Calendar 2.0//EN
METHOD:PUBLISH
X-PUBLISHED-TTL:P3D
REFRESH-INTERVAL:P3D
CALSCALE:GREGORIAN
BEGIN:VEVENT
DTSTART:20251214T023000Z
DTEND:20251214T050000Z
X-MICROSOFT-CDO-ALLDAYEVENT:FALSE
SUMMARY:33 RPM - Bub's Irish Pub
DESCRIPTION:33rpm provides mind-blowing audio recreations of Pink Floyd\, Supertramp\, Kansas\, Beatles\, Journey\, Rush\, Zeppelin\, The Who\, Bad Company\, etc. using a professional mix of electric and acoustic instrumentation together with thick\, well blended vocals.
X-ALT-DESC;FMTTYPE=text/html:<span style="font-family:arial\;"><span style="color: rgb(255\, 255\, 255)\; font-size: 16px\; background-color: rgba(0\, 0\, 0\, 0.5)\;">33rpm provides mind-blowing audio recreations of Pink Floyd\, Supertramp\, Kansas\, Beatles\, Journey\, Rush\, Zeppelin\, The Who\, Bad Company\, etc. using a professional mix of electric and acoustic instrumentation together with thick\, well blended vocals.</span></span>
LOCATION:Bub's Irish Pub N116W162180 Main St Germantown
UID:e.2331.10413
SEQUENCE:3
DTSTAMP:20260421T142453Z
URL:https://www.germantownchamber.org/events/details/33-rpm-bub-s-irish-pub-10413
END:VEVENT

END:VCALENDAR
