BEGIN:VCALENDAR
VERSION:2.0
PRODID:-//ChamberMaster//Event Calendar 2.0//EN
METHOD:PUBLISH
X-PUBLISHED-TTL:P3D
REFRESH-INTERVAL:P3D
CALSCALE:GREGORIAN
BEGIN:VEVENT
DTSTART:20260620T130000Z
DTEND:20260620T160000Z
X-MICROSOFT-CDO-ALLDAYEVENT:FALSE
SUMMARY:3rd Annual Run/Walk for Charity - Hildebrand Law Firm
DESCRIPTION:Hildebrand Law Firm\, LLC will be hosting our 3rd Annual Hildebrand Law Firm Run/Walk for Charity on Saturday\, June 20\, 2026\, at Estabrook Park in Shorewood\, Wisconsin.\n\n\n\nAll proceeds from the 2026 event will benefit the Black Child Development Institute\, supporting its mission and positive impact within our community.
X-ALT-DESC;FMTTYPE=text/html:Hildebrand Law Firm\, LLC will be hosting our 3rd Annual Hildebrand Law Firm Run/Walk for Charity on Saturday\, June 20\, 2026\, at Estabrook Park in Shorewood\, Wisconsin.<br />\n<br />\nAll proceeds from the 2026 event will benefit the Black Child Development Institute\, supporting its mission and positive impact within our community.
LOCATION:Estabrook Park 4400 Estabrook Parkway Shorewood\, WI 53211
UID:e.2331.11174
SEQUENCE:3
DTSTAMP:20260420T163729Z
URL:https://www.germantownchamber.org/events/details/3rd-annual-run-walk-for-charity-hildebrand-law-firm-11174
END:VEVENT

END:VCALENDAR
