BEGIN:VCALENDAR
VERSION:2.0
PRODID:-//ChamberMaster//Event Calendar 2.0//EN
METHOD:PUBLISH
X-PUBLISHED-TTL:P3D
REFRESH-INTERVAL:P3D
CALSCALE:GREGORIAN
BEGIN:VEVENT
DTSTART:20190326T163000Z
DTEND:20190326T180000Z
X-MICROSOFT-CDO-ALLDAYEVENT:FALSE
SUMMARY:ABLE Lunch sponsored by South Suburban Chamber
DESCRIPTION:NEW FOR 2019: All ABLE Networking Events Are Open to All Participating Chambers' members!\nUnder our newly re-vamped ABLE program\, you are welcome to attend any ABLE breakfast or lunch being held by one of the participating Chambers. \n\n\n\nFor a listing of the dates\, locations and hosting Chamber\, please click on this link:\n\nhttps://ablenetworking.wixsite.com/events\n\n\n\nNOTE: Registrations are handled by the hosting Chamber listed. Questions regarding a specific date's registration should be directed to the hosting Chamber.
X-ALT-DESC;FMTTYPE=text/html:<h2 style="font-weight: normal\; line-height: 1.2\; color: rgb(51\, 51\, 51)\; font-family: sans-serif\, Arial\, Verdana\, &quot\;Trebuchet MS&quot\;\; font-style: italic\;"><span style="font-size: 16px\;"><strong><span style="margin: 0px\; padding: 0px\; border: none\; outline: 0px\; bottom: auto\; box-sizing: content-box\; clear: none\; content: normal\; direction: inherit\; empty-cells: show\; font-variant-numeric: inherit\; font-variant-east-asian: inherit\; font-stretch: inherit\; font-family: Arial\, Helvetica\, sans-serif\; left: auto\; line-height: inherit\; max-height: none\; max-width: none\; min-height: initial\; min-width: initial\; opacity: 1\; outline-offset: 0px\; overflow: visible\; position: static\; resize: none\; right: auto\; table-layout: auto\; text-overflow: clip\; top: auto\; vertical-align: baseline\; visibility: inherit\; word-break: inherit\; overflow-wrap: inherit\; z-index: auto\; background: none rgb(255\, 255\, 255)\; border-collapse: separate\; border-radius: 0px\; height: auto\; width: auto\; box-shadow: none\;"><span background:="" border-collapse:="" border-radius:="" box-shadow:="" height:="" left:="" letter-spacing:="" line-height:="" max-height:="" max-width:="" min-height:="" min-width:="" opacity:="" outline-offset:="" overflow-wrap:="" overflow:="" position:="" resize:="" right:="" style="margin: 0px\; padding: 0px\; border: none\; outline: 0px\; bottom: auto\; box-sizing: content-box\; clear: none\; color: inherit\; content: normal\; direction: inherit\; empty-cells: show\; font-style: inherit\; font-variant: inherit\; font-weight: inherit\; font-stretch: inherit\;" table-layout:="" text-align:="" text-indent:="" text-overflow:="" text-transform:="" top:="" trebuchet="" vertical-align:="" visibility:="" white-space:="" width:="" word-break:="" word-spacing:="" z-index:="">NEW FOR 2019: All ABLE Networking Events Are Open to All Participating Chambers&#39\; members!</span></span></strong></span></h2>\n<span style="color: rgb(51\, 51\, 51)\; background: none rgb(255\, 255\, 255)\; margin: 0px\; padding: 0px\; border: none\; outline: 0px\; bottom: auto\; box-sizing: content-box\; clear: none\; content: normal\; direction: inherit\; empty-cells: show\; font-variant-numeric: inherit\; font-variant-east-asian: inherit\; font-stretch: inherit\; font-size: 14px\; font-family: Arial\, Helvetica\, sans-serif\; left: auto\; line-height: inherit\; max-height: none\; max-width: none\; min-height: initial\; min-width: initial\; opacity: 1\; outline-offset: 0px\; overflow: visible\; position: static\; resize: none\; right: auto\; table-layout: auto\; text-overflow: clip\; top: auto\; vertical-align: baseline\; visibility: inherit\; word-break: inherit\; overflow-wrap: inherit\; z-index: auto\; border-collapse: separate\; border-radius: 0px\; height: auto\; width: auto\; box-shadow: none\;"><span background:="" border-collapse:="" border-radius:="" box-shadow:="" height:="" left:="" letter-spacing:="" line-height:="" max-height:="" max-width:="" min-height:="" min-width:="" opacity:="" outline-offset:="" overflow-wrap:="" overflow:="" position:="" resize:="" right:="" style="margin: 0px\; padding: 0px\; border: none\; outline: 0px\; bottom: auto\; box-sizing: content-box\; clear: none\; color: inherit\; content: normal\; direction: inherit\; empty-cells: show\; font-style: inherit\; font-variant: inherit\; font-weight: inherit\; font-stretch: inherit\; font-size: inherit\;" table-layout:="" text-align:="" text-indent:="" text-overflow:="" text-transform:="" top:="" trebuchet="" vertical-align:="" visibility:="" white-space:="" width:="" word-break:="" word-spacing:="" z-index:="">Under our newly re-vamped ABLE program\, you are welcome to attend any ABLE breakfast or lunch being held by one of the participating Chambers.&nbsp\;<br />\n<br />\nFor a listing of the dates\, locations and hosting Chamber\, please click on this link:</span><br />\n<span background:="" border-collapse:="" border-radius:="" box-shadow:="" height:="" left:="" letter-spacing:="" line-height:="" max-height:="" max-width:="" min-height:="" min-width:="" opacity:="" outline-offset:="" overflow-wrap:="" overflow:="" position:="" resize:="" right:="" style="margin: 0px\; padding: 0px\; border: none\; outline: 0px\; bottom: auto\; box-sizing: content-box\; clear: none\; content: normal\; direction: inherit\; empty-cells: show\; font-style: inherit\; font-variant: inherit\; font-weight: inherit\; font-stretch: inherit\; font-size: inherit\;" table-layout:="" text-align:="" text-indent:="" text-overflow:="" text-transform:="" top:="" trebuchet="" vertical-align:="" visibility:="" white-space:="" width:="" word-break:="" word-spacing:="" z-index:=""><strong><a href="http://ablenetworking.wixsite.com/events" style="color: rgb(7\, 130\, 193)\;"><span style="color: rgb(0\, 0\, 205)\;">https://ablenetworking.wixsite.com/events</span></a></strong></span></span><br style="color: rgb(51\, 51\, 51)\; font-family: sans-serif\, Arial\, Verdana\, &quot\;Trebuchet MS&quot\;\; font-size: 13px\;" />\n<br style="color: rgb(51\, 51\, 51)\; background: none rgb(255\, 255\, 255)\; bottom: auto\; box-sizing: content-box\; clear: none\; content: normal\; direction: inherit\; display: inline\; empty-cells: show\; float: none\; font-variant-numeric: inherit\; font-variant-east-asian: inherit\; font-stretch: inherit\; font-size: 14px\; font-family: Arial\, Helvetica\, sans-serif\; left: auto\; line-height: inherit\; margin: 0px\; max-height: none\; max-width: none\; min-height: initial\; min-width: initial\; opacity: 1\; outline-offset: 0px\; overflow: visible\; padding: 0px\; position: static\; resize: none\; right: auto\; table-layout: auto\; text-overflow: clip\; top: auto\; vertical-align: baseline\; visibility: inherit\; word-break: inherit\; overflow-wrap: inherit\; z-index: auto\; border: none\; border-collapse: separate\; border-radius: 0px\; height: auto\; width: auto\;" />\n<span style="color: rgb(51\, 51\, 51)\; background: none rgb(255\, 255\, 255)\; margin: 0px\; padding: 0px\; border: none\; outline: 0px\; bottom: auto\; box-sizing: content-box\; clear: none\; content: normal\; direction: inherit\; empty-cells: show\; font-variant-numeric: inherit\; font-variant-east-asian: inherit\; font-stretch: inherit\; font-size: 14px\; font-family: Arial\, Helvetica\, sans-serif\; left: auto\; line-height: inherit\; max-height: none\; max-width: none\; min-height: initial\; min-width: initial\; opacity: 1\; outline-offset: 0px\; overflow: visible\; position: static\; resize: none\; right: auto\; table-layout: auto\; text-overflow: clip\; top: auto\; vertical-align: baseline\; visibility: inherit\; word-break: inherit\; overflow-wrap: inherit\; z-index: auto\; border-collapse: separate\; border-radius: 0px\; height: auto\; width: auto\; box-shadow: none\;"><span background:="" border-collapse:="" border-radius:="" box-shadow:="" height:="" left:="" letter-spacing:="" line-height:="" max-height:="" max-width:="" min-height:="" min-width:="" opacity:="" outline-offset:="" overflow-wrap:="" overflow:="" position:="" resize:="" right:="" style="margin: 0px\; padding: 0px\; border: none\; outline: 0px\; bottom: auto\; box-sizing: content-box\; clear: none\; color: inherit\; content: normal\; direction: inherit\; empty-cells: show\; font-style: inherit\; font-variant: inherit\; font-weight: inherit\; font-stretch: inherit\; font-size: inherit\;" table-layout:="" text-align:="" text-indent:="" text-overflow:="" text-transform:="" top:="" trebuchet="" vertical-align:="" visibility:="" white-space:="" width:="" word-break:="" word-spacing:="" z-index:="">NOTE: Registrations are handled by the hosting Chamber listed. Questions regarding a specific date&#39\;s registration should be directed to the hosting Chamber.</span></span>
LOCATION:Los Mariachis
UID:e.2331.3300
SEQUENCE:3
DTSTAMP:20260423T120055Z
URL:https://www.germantownchamber.org/events/details/able-lunch-sponsored-by-south-suburban-chamber-3300
END:VEVENT

END:VCALENDAR
