BEGIN:VCALENDAR
VERSION:2.0
PRODID:-//ChamberMaster//Event Calendar 2.0//EN
METHOD:PUBLISH
X-PUBLISHED-TTL:P3D
REFRESH-INTERVAL:P3D
CALSCALE:GREGORIAN
BEGIN:VEVENT
DTSTART:20201202T133000Z
DTEND:20201202T150000Z
X-MICROSOFT-CDO-ALLDAYEVENT:FALSE
SUMMARY:ABLE Networking December 2\, 2020 CANCELED
DESCRIPTION:CANCELED\; December 2\, 2020 meeting due to low enrollment\n\nABLE Networking Meetings are for the Germantown and Menomonee Falls Chambers of Commerce members and guests.\n\n\n\nDecember 2nd will be an in-person meeting. Here are the guidelines established for everyone's safety:\n\n	30 participants maximum\; there will be limited registrations taken\n	Breakfast will be plated. Any dietary restrictions need to be noted at time of registration. \n	Registrations need to be made by Monday\, 11/30/2020 at 12noon. No late registrations or walk-ins permitted.\n	As of August 1\, masks are required except for eating\; 6 ft. social distancing will be practiced at all times. Hand sanitizer stations will be located throughout the venue.\n	Casual Networking: attendees will be encouraged to find a seat rather than congregating in one area. Coffee will be brought to you. \n	Braggers Table: a flyer and/or business card may be placed on a designated table for others to snap a photo rather than sharing materials. \n	Meeting Format: the format of ABLE will remain the same: networking and breakfast\, Chamber announcements\, 30-second commercials\, 5-minute presenter.  A spot will be designated from which to give 30-second commercials and 5-minute presentation to put more distance between speaker and audience.\n\nAs situations change\, these guidelines may also change.
X-ALT-DESC;FMTTYPE=text/html:<span style="color:#FF0000\;"><strong>CANCELED\; December 2\, 2020 meeting due to low enrollment</strong></span><br />\nABLE Networking Meetings are for the Germantown and Menomonee Falls Chambers of Commerce members and guests.<br />\n<br />\nDecember 2nd will be an in-person meeting. Here are the guidelines established for everyone&#39\;s safety:\n<ul>\n	<li>30 participants maximum\; there will be limited registrations taken</li>\n	<li>Breakfast will be plated. <strong>Any dietary restrictions need to be noted at time of registration.&nbsp\;</strong></li>\n	<li><span style="color:#FF0000\;"><strong>Registrations need to be made by Monday\, 11/30/2020 at 12noon</strong></span>. No late registrations or walk-ins permitted.</li>\n	<li><strong><span style="color:#0000FF\;">As of August 1\, masks are required except for eating</span></strong>\;&nbsp\;6 ft. social distancing will be practiced at all times. Hand sanitizer stations will be located throughout the venue.</li>\n	<li>Casual Networking: attendees will be encouraged to find&nbsp\;a seat rather than congregating in one area. Coffee will be brought to you.&nbsp\;</li>\n	<li>Braggers Table: a flyer and/or business card may be placed on a designated table for others to snap a photo rather than sharing materials.&nbsp\;</li>\n	<li>Meeting Format: the format of ABLE will remain the same: networking and breakfast\, Chamber announcements\, 30-second commercials\, 5-minute presenter.&nbsp\; <strong><em>A spot will be designated from which to give 30-second commercials and 5-minute presentation</em></strong> to put more distance between speaker and audience.</li>\n</ul>\nAs situations change\, these guidelines may also change.
LOCATION:The Main Mill N88 W16521 Main Street Menomonee Falls\, WI 53051
UID:e.2331.3949
SEQUENCE:3
DTSTAMP:20260422T200505Z
URL:https://www.germantownchamber.org/events/details/able-networking-december-2-2020-canceled-3949
END:VEVENT

END:VCALENDAR
