BEGIN:VCALENDAR
VERSION:2.0
PRODID:-//ChamberMaster//Event Calendar 2.0//EN
METHOD:PUBLISH
X-PUBLISHED-TTL:P3D
REFRESH-INTERVAL:P3D
CALSCALE:GREGORIAN
BEGIN:VEVENT
DTSTART:20251105T190000Z
DTEND:20251105T210000Z
X-MICROSOFT-CDO-ALLDAYEVENT:FALSE
SUMMARY:Afternoon at the Movies - Senior Center
DESCRIPTION:Afternoon at the Movies at the Senior Center!\n\nBring your own beverage and snack!
X-ALT-DESC;FMTTYPE=text/html:Afternoon at the Movies at the Senior Center!<br />\nBring your own beverage and snack!<br />\n<br />\n&nbsp\;
LOCATION:Germantown Senior Center W162N11960 Park Ave
UID:e.2331.9934
SEQUENCE:3
DTSTAMP:20260421T130303Z
URL:https://www.germantownchamber.org/events/details/afternoon-at-the-movies-senior-center-9934
END:VEVENT

END:VCALENDAR
