BEGIN:VCALENDAR
VERSION:2.0
PRODID:-//ChamberMaster//Event Calendar 2.0//EN
METHOD:PUBLISH
X-PUBLISHED-TTL:P3D
REFRESH-INTERVAL:P3D
CALSCALE:GREGORIAN
BEGIN:VEVENT
DTSTART:20260706T180000Z
DTEND:20260706T210000Z
X-MICROSOFT-CDO-ALLDAYEVENT:FALSE
SUMMARY:Bast Bell Museum & Church Museum Open By Appt Only
DESCRIPTION:Bast Bell Museum\; an 1880 Wood Barn located on the Dheinsville Settlement\, a pre-civil war crossroad which houses a 5\,000 bell collection donated by Sila Lydia Bast\, a native of nearby Rockfield. Other historical buildings located in the Dheinsville Settlement include the 1862 Limestone Christ Church (Museum)\, 1854 Timber Wolf Haus\, the 1880 Wood Barn including its 1910 enlargement.\n\n\n\nTours available at a reasonable rate.\n\nFor groups\, please call for reservations
X-ALT-DESC;FMTTYPE=text/html:Bast Bell Museum\; an 1880 Wood Barn located on the Dheinsville Settlement\, a pre-civil war crossroad which houses a 5\,000 bell collection donated by Sila Lydia Bast\, a native of nearby Rockfield. Other historical buildings located in the Dheinsville Settlement include the 1862 Limestone Christ Church (Museum)\, 1854 Timber Wolf Haus\, the 1880 Wood Barn including its&nbsp\;1910 enlargement.<br />\n<br />\nTours available at a reasonable rate.<br />\nFor groups\, please call for reservations
LOCATION:Dheinsville Settlement N128 W18780 Holy Hill Road Germantown\, WI 53022 six-way intersection at Maple Road\, Holy Hill Road and Fond du Lac Avenue (Hwy. 145)
UID:e.2331.11382
SEQUENCE:3
DTSTAMP:20260420T224405Z
URL:https://www.germantownchamber.org/events/details/bast-bell-museum-church-museum-open-by-appt-only-07-06-2026-11382
END:VEVENT

END:VCALENDAR
