BEGIN:VCALENDAR
VERSION:2.0
PRODID:-//ChamberMaster//Event Calendar 2.0//EN
METHOD:PUBLISH
X-PUBLISHED-TTL:P3D
REFRESH-INTERVAL:P3D
CALSCALE:GREGORIAN
BEGIN:VEVENT
DTSTART:20260605T130000Z
DTEND:20260605T200000Z
X-MICROSOFT-CDO-ALLDAYEVENT:FALSE
SUMMARY:Big Brothers Big Sisters of Washington County Golf Fore Kids Sake
DESCRIPTION:Hitting the green with BBBS on June 5th creates and supports one-on-one mentoring relationships in Washington County. With every putt you are a defender of potential.
X-ALT-DESC;FMTTYPE=text/html:Hitting the green with BBBS on June 5th creates and supports one-on-one mentoring relationships in Washington County. With every putt you are a defender of potential.
LOCATION:Washington County Golf Course
UID:e.2331.11394
SEQUENCE:3
DTSTAMP:20260420T151447Z
URL:https://www.germantownchamber.org/events/details/big-brothers-big-sisters-of-washington-county-golf-fore-kids-sake-11394
END:VEVENT

END:VCALENDAR
