BEGIN:VCALENDAR
VERSION:2.0
PRODID:-//ChamberMaster//Event Calendar 2.0//EN
METHOD:PUBLISH
X-PUBLISHED-TTL:P3D
REFRESH-INTERVAL:P3D
CALSCALE:GREGORIAN
BEGIN:VEVENT
DTSTART:20251106T230000Z
DTEND:20251107T040000Z
X-MICROSOFT-CDO-ALLDAYEVENT:FALSE
SUMMARY:Bingo Night at the American Legion Post 1
DESCRIPTION:Doors open at 5PM\n\nGames begin at 7PM\n\nMore information at http://www.legionpostone.org/bingo-open-public/\nTimes: \n\n5:00 p.m. ? Doors Open\n\n7:00 p.m. ? Early Bird\n\n8:15 p.m. ? Reg Session\n\n \n\nFood & Beverages: \n\n\n	We sell sandwiches\, desserts\, alcoholic and non-alcoholic beverages each week\, at a minimal cost.\n	Carry-ins are not allowed of any kind.\n\n\nCash\, Prizes\, Raffles & Games: \n\n\n	Cash prizes and raffles.\n	Extra payout on the last Thursday of the month.\n	Pull tabs available\n	NEW! 50/50 raffles.\n\n\nBingo Rules:\n\n\n	Cash sales only. No checks. No credit.\n	No one under the age of 18 may play bingo without an adult present at all times. Only an adult may call bingo.\n	Liquid daubers only. No pens. No pencils\n	No sales will be made after the first number is called.\n	You must call BINGO on the last number called. Last number is valid until the letter of the next ball is called.\n	When bingo is called both the caller and a neutral player will verify the winners numbers.\n	Multiple winners split prizes equally.\n	There is no limit to the number of sheets a player may purchase and play for a particular game\, however\, the caller will progress at a steady pace.\n	We do not refund or exchange any unused sheets.\n	Bingo sheets must be used for the game purchased. Sheets cannot be used for future games.\n	A valid drivers license or picture ID must be presented to collect prizes that exceed $100.\n	Bingo WILL NOT be held on major holidays\, and will be canceled due to inclement weather or there are fewer than 15 players present. Check media listings when the weather is bad.\n	We reserve the right to refuse service to anyone. No refunds will be given to anyone asked to leave the session due to improper behavior.\n\n\nQuestions? Call the Post at: (262) 251-5470
X-ALT-DESC;FMTTYPE=text/html:<span style="font-size:12px\;"><span style="font-family:arial\;">Doors open at 5PM<br />\nGames begin at 7PM<br />\nMore information at&nbsp\;http://www.legionpostone.org/bingo-open-public/</span></span>\n<h3 style="box-sizing: border-box\; font-family: Arial\, Helvetica\, sans-serif\; font-weight: bold\; line-height: 1.4\; color: rgb(34\, 34\, 34)\; margin: 0.2rem 0px 0.5rem\; font-size: 1.6875rem\; border: 0px\; outline: 0px\; padding: 0px\; vertical-align: baseline\; text-rendering: optimizelegibility\; clear: both\;"><span style="font-size:12px\;"><span style="font-family:arial\;"><b style="box-sizing: border-box\; line-height: inherit\;">Times:</b><b style="box-sizing: border-box\; line-height: inherit\;">&nbsp\;</b></span></span></h3>\n\n<p style="box-sizing: border-box\; margin-top: 0px\; margin-right: 0px\; margin-left: 0px\; border: 0px\; font-family: &quot\;Crimson Text&quot\;\, serif\; font-size: 16px\; outline: 0px\; padding: 0px\; vertical-align: baseline\; line-height: 1.6\; text-rendering: optimizelegibility\; cursor: text\; color: rgb(64\, 64\, 64)\; margin-bottom: 0.5rem !important\;"><span style="font-size:12px\;"><span style="font-family:arial\;"><span style="box-sizing: border-box\; border: 0px\; font-style: inherit\; font-weight: inherit\; margin: 0px\; outline: 0px\; padding: 0px\; vertical-align: baseline\;">5:00 p.m. ? Doors Open</span><br style="box-sizing: border-box\;" />\n<span style="box-sizing: border-box\; border: 0px\; font-style: inherit\; font-weight: inherit\; margin: 0px\; outline: 0px\; padding: 0px\; vertical-align: baseline\;">7:00 p.m. ? Early Bird</span><br style="box-sizing: border-box\;" />\n<span style="box-sizing: border-box\; border: 0px\; font-style: inherit\; font-weight: inherit\; margin: 0px\; outline: 0px\; padding: 0px\; vertical-align: baseline\;">8:15 p.m. ? Reg Session</span></span></span></p>\n\n<h3 style="box-sizing: border-box\; font-family: Arial\, Helvetica\, sans-serif\; font-weight: bold\; line-height: 1.4\; color: rgb(34\, 34\, 34)\; margin: 0.2rem 0px 0.5rem\; font-size: 1.6875rem\; border: 0px\; outline: 0px\; padding: 0px\; vertical-align: baseline\; text-rendering: optimizelegibility\; clear: both\;">&nbsp\;</h3>\n\n<h3 style="box-sizing: border-box\; font-family: Arial\, Helvetica\, sans-serif\; font-weight: bold\; line-height: 1.4\; color: rgb(34\, 34\, 34)\; margin: 0.2rem 0px 0.5rem\; font-size: 1.6875rem\; border: 0px\; outline: 0px\; padding: 0px\; vertical-align: baseline\; text-rendering: optimizelegibility\; clear: both\;"><span style="font-size:12px\;"><span style="font-family:arial\;"><b style="box-sizing: border-box\; line-height: inherit\;">Food &amp\; Beverages:</b><b style="box-sizing: border-box\; line-height: inherit\;">&nbsp\;</b></span></span></h3>\n\n<ul style="box-sizing: border-box\; margin-top: 0px\; border: 0px\; font-family: &quot\;Crimson Text&quot\;\, serif\; font-size: 16px\; margin-right: 0px\; margin-left: 1.5em\; outline: 0px\; padding-right: 0px\; padding-left: 0px\; vertical-align: baseline\; list-style-position: initial\; list-style-image: initial\; line-height: 1.6\; color: rgb(64\, 64\, 64)\; margin-bottom: 0.5rem !important\;">\n	<li style="box-sizing: border-box\; border: 0px\; font-family: inherit\; font-style: inherit\; font-weight: inherit\; margin: 0px\; outline: 0px\; padding: 0px\; vertical-align: baseline\;"><span style="font-size:12px\;"><span style="font-family:arial\;"><span style="box-sizing: border-box\; border: 0px\; font-style: inherit\; font-weight: inherit\; margin: 0px\; outline: 0px\; padding: 0px\; vertical-align: baseline\;">We sell sandwiches\, desserts\, alcoholic and non-alcoholic beverages each week\, at a minimal cost.</span></span></span></li>\n	<li style="box-sizing: border-box\; border: 0px\; font-family: inherit\; font-style: inherit\; font-weight: inherit\; margin: 0px\; outline: 0px\; padding: 0px\; vertical-align: baseline\;"><span style="font-size:12px\;"><span style="font-family:arial\;"><span style="box-sizing: border-box\; border: 0px\; font-style: inherit\; font-weight: inherit\; margin: 0px\; outline: 0px\; padding: 0px\; vertical-align: baseline\;">Carry-ins are not allowed of any kind.</span></span></span></li>\n</ul>\n\n<h3 style="box-sizing: border-box\; font-family: Arial\, Helvetica\, sans-serif\; font-weight: bold\; line-height: 1.4\; color: rgb(34\, 34\, 34)\; margin: 0.2rem 0px 0.5rem\; font-size: 1.6875rem\; border: 0px\; outline: 0px\; padding: 0px\; vertical-align: baseline\; text-rendering: optimizelegibility\; clear: both\;"><span style="font-size:12px\;"><span style="font-family:arial\;"><b style="box-sizing: border-box\; line-height: inherit\;">Cash\, Prizes\, Raffles &amp\; Games:</b><b style="box-sizing: border-box\; line-height: inherit\;">&nbsp\;</b></span></span></h3>\n\n<ul style="box-sizing: border-box\; margin-top: 0px\; border: 0px\; font-family: &quot\;Crimson Text&quot\;\, serif\; font-size: 16px\; margin-right: 0px\; margin-left: 1.5em\; outline: 0px\; padding-right: 0px\; padding-left: 0px\; vertical-align: baseline\; list-style-position: initial\; list-style-image: initial\; line-height: 1.6\; color: rgb(64\, 64\, 64)\; margin-bottom: 0.5rem !important\;">\n	<li style="box-sizing: border-box\; border: 0px\; font-family: inherit\; font-style: inherit\; font-weight: inherit\; margin: 0px\; outline: 0px\; padding: 0px\; vertical-align: baseline\;"><span style="font-size:12px\;"><span style="font-family:arial\;"><span style="box-sizing: border-box\; border: 0px\; font-style: inherit\; font-weight: inherit\; margin: 0px\; outline: 0px\; padding: 0px\; vertical-align: baseline\;">Cash prizes and raffles.</span></span></span></li>\n	<li style="box-sizing: border-box\; border: 0px\; font-family: inherit\; font-style: inherit\; font-weight: inherit\; margin: 0px\; outline: 0px\; padding: 0px\; vertical-align: baseline\;"><span style="font-size:12px\;"><span style="font-family:arial\;"><span style="box-sizing: border-box\; border: 0px\; font-style: inherit\; font-weight: inherit\; margin: 0px\; outline: 0px\; padding: 0px\; vertical-align: baseline\;">Extra payout on the last Thursday of the month.</span></span></span></li>\n	<li style="box-sizing: border-box\; border: 0px\; font-family: inherit\; font-style: inherit\; font-weight: inherit\; margin: 0px\; outline: 0px\; padding: 0px\; vertical-align: baseline\;"><span style="font-size:12px\;"><span style="font-family:arial\;"><span style="box-sizing: border-box\; border: 0px\; font-style: inherit\; font-weight: inherit\; margin: 0px\; outline: 0px\; padding: 0px\; vertical-align: baseline\;">Pull tabs available</span></span></span></li>\n	<li style="box-sizing: border-box\; border: 0px\; font-family: inherit\; font-style: inherit\; font-weight: inherit\; margin: 0px\; outline: 0px\; padding: 0px\; vertical-align: baseline\;"><span style="font-size:12px\;"><span style="font-family:arial\;"><span style="box-sizing: border-box\; border: 0px\; font-style: inherit\; font-weight: inherit\; margin: 0px\; outline: 0px\; padding: 0px\; vertical-align: baseline\;">NEW! 50/50 raffles.</span></span></span></li>\n</ul>\n\n<h3 style="box-sizing: border-box\; font-family: Arial\, Helvetica\, sans-serif\; font-weight: bold\; line-height: 1.4\; color: rgb(34\, 34\, 34)\; margin: 0.2rem 0px 0.5rem\; font-size: 1.6875rem\; border: 0px\; outline: 0px\; padding: 0px\; vertical-align: baseline\; text-rendering: optimizelegibility\; clear: both\;"><span style="font-size:12px\;"><span style="font-family:arial\;"><b style="box-sizing: border-box\; line-height: inherit\;">Bingo Rules:</b></span></span></h3>\n\n<ol style="box-sizing: border-box\; margin-top: 0px\; border: 0px\; font-family: &quot\;Crimson Text&quot\;\, serif\; font-size: 16px\; margin-right: 0px\; margin-left: 1.5em\; outline: 0px\; padding-right: 0px\; padding-left: 0px\; vertical-align: baseline\; list-style-position: initial\; list-style-image: initial\; line-height: 1.6\; color: rgb(64\, 64\, 64)\; margin-bottom: 0.5rem !important\;">\n	<li style="box-sizing: border-box\; border: 0px\; font-family: inherit\; font-style: inherit\; font-weight: inherit\; margin: 0px\; outline: 0px\; padding: 0px\; vertical-align: baseline\;"><span style="font-size:12px\;"><span style="font-family:arial\;"><span style="box-sizing: border-box\; border: 0px\; font-style: inherit\; font-weight: inherit\; margin: 0px\; outline: 0px\; padding: 0px\; vertical-align: baseline\;">Cash sales only. No checks. No credit.</span></span></span></li>\n	<li style="box-sizing: border-box\; border: 0px\; font-family: inherit\; font-style: inherit\; font-weight: inherit\; margin: 0px\; outline: 0px\; padding: 0px\; vertical-align: baseline\;"><span style="font-size:12px\;"><span style="font-family:arial\;"><span style="box-sizing: border-box\; border: 0px\; font-style: inherit\; font-weight: inherit\; margin: 0px\; outline: 0px\; padding: 0px\; vertical-align: baseline\;">No one under the age of 18 may play bingo without an adult present at all times. Only an adult may call bingo.</span></span></span></li>\n	<li style="box-sizing: border-box\; border: 0px\; font-family: inherit\; font-style: inherit\; font-weight: inherit\; margin: 0px\; outline: 0px\; padding: 0px\; vertical-align: baseline\;"><span style="font-size:12px\;"><span style="font-family:arial\;"><span style="box-sizing: border-box\; border: 0px\; font-style: inherit\; font-weight: inherit\; margin: 0px\; outline: 0px\; padding: 0px\; vertical-align: baseline\;">Liquid daubers only. No pens. No pencils</span></span></span></li>\n	<li style="box-sizing: border-box\; border: 0px\; font-family: inherit\; font-style: inherit\; font-weight: inherit\; margin: 0px\; outline: 0px\; padding: 0px\; vertical-align: baseline\;"><span style="font-size:12px\;"><span style="font-family:arial\;"><span style="box-sizing: border-box\; border: 0px\; font-style: inherit\; font-weight: inherit\; margin: 0px\; outline: 0px\; padding: 0px\; vertical-align: baseline\;">No sales will be made after the first number is called.</span></span></span></li>\n	<li style="box-sizing: border-box\; border: 0px\; font-family: inherit\; font-style: inherit\; font-weight: inherit\; margin: 0px\; outline: 0px\; padding: 0px\; vertical-align: baseline\;"><span style="font-size:12px\;"><span style="font-family:arial\;"><span style="box-sizing: border-box\; border: 0px\; font-style: inherit\; font-weight: inherit\; margin: 0px\; outline: 0px\; padding: 0px\; vertical-align: baseline\;">You must call BINGO on the last number called. Last number is valid until the letter of the next ball is called.</span></span></span></li>\n	<li style="box-sizing: border-box\; border: 0px\; font-family: inherit\; font-style: inherit\; font-weight: inherit\; margin: 0px\; outline: 0px\; padding: 0px\; vertical-align: baseline\;"><span style="font-size:12px\;"><span style="font-family:arial\;"><span style="box-sizing: border-box\; border: 0px\; font-style: inherit\; font-weight: inherit\; margin: 0px\; outline: 0px\; padding: 0px\; vertical-align: baseline\;">When bingo is called both the caller and a neutral player will verify the winners numbers.</span></span></span></li>\n	<li style="box-sizing: border-box\; border: 0px\; font-family: inherit\; font-style: inherit\; font-weight: inherit\; margin: 0px\; outline: 0px\; padding: 0px\; vertical-align: baseline\;"><span style="font-size:12px\;"><span style="font-family:arial\;"><span style="box-sizing: border-box\; border: 0px\; font-style: inherit\; font-weight: inherit\; margin: 0px\; outline: 0px\; padding: 0px\; vertical-align: baseline\;">Multiple winners split prizes equally.</span></span></span></li>\n	<li style="box-sizing: border-box\; border: 0px\; font-family: inherit\; font-style: inherit\; font-weight: inherit\; margin: 0px\; outline: 0px\; padding: 0px\; vertical-align: baseline\;"><span style="font-size:12px\;"><span style="font-family:arial\;"><span style="box-sizing: border-box\; border: 0px\; font-style: inherit\; font-weight: inherit\; margin: 0px\; outline: 0px\; padding: 0px\; vertical-align: baseline\;">There is no limit to the number of sheets a player may purchase and play for a particular game\, however\, the caller will progress at a steady pace.</span></span></span></li>\n	<li style="box-sizing: border-box\; border: 0px\; font-family: inherit\; font-style: inherit\; font-weight: inherit\; margin: 0px\; outline: 0px\; padding: 0px\; vertical-align: baseline\;"><span style="font-size:12px\;"><span style="font-family:arial\;"><span style="box-sizing: border-box\; border: 0px\; font-style: inherit\; font-weight: inherit\; margin: 0px\; outline: 0px\; padding: 0px\; vertical-align: baseline\;">We do not refund or exchange any unused sheets.</span></span></span></li>\n	<li style="box-sizing: border-box\; border: 0px\; font-family: inherit\; font-style: inherit\; font-weight: inherit\; margin: 0px\; outline: 0px\; padding: 0px\; vertical-align: baseline\;"><span style="font-size:12px\;"><span style="font-family:arial\;"><span style="box-sizing: border-box\; border: 0px\; font-style: inherit\; font-weight: inherit\; margin: 0px\; outline: 0px\; padding: 0px\; vertical-align: baseline\;">Bingo sheets must be used for the game purchased. Sheets cannot be used for future games.</span></span></span></li>\n	<li style="box-sizing: border-box\; border: 0px\; font-family: inherit\; font-style: inherit\; font-weight: inherit\; margin: 0px\; outline: 0px\; padding: 0px\; vertical-align: baseline\;"><span style="font-size:12px\;"><span style="font-family:arial\;"><span style="box-sizing: border-box\; border: 0px\; font-style: inherit\; font-weight: inherit\; margin: 0px\; outline: 0px\; padding: 0px\; vertical-align: baseline\;">A valid drivers license or picture ID must be presented to collect prizes that exceed $100.</span></span></span></li>\n	<li style="box-sizing: border-box\; border: 0px\; font-family: inherit\; font-style: inherit\; font-weight: inherit\; margin: 0px\; outline: 0px\; padding: 0px\; vertical-align: baseline\;"><span style="font-size:12px\;"><span style="font-family:arial\;"><span style="box-sizing: border-box\; border: 0px\; font-style: inherit\; font-weight: inherit\; margin: 0px\; outline: 0px\; padding: 0px\; vertical-align: baseline\;">Bingo WILL NOT be held on major holidays\, and will be canceled due to inclement weather or there are fewer than 15 players present. Check media listings when the weather is bad.</span></span></span></li>\n	<li style="box-sizing: border-box\; border: 0px\; font-family: inherit\; font-style: inherit\; font-weight: inherit\; margin: 0px\; outline: 0px\; padding: 0px\; vertical-align: baseline\;"><span style="font-size:12px\;"><span style="font-family:arial\;"><span style="box-sizing: border-box\; border: 0px\; font-style: inherit\; font-weight: inherit\; margin: 0px\; outline: 0px\; padding: 0px\; vertical-align: baseline\;">We reserve the right to refuse service to anyone. No refunds will be given to anyone asked to leave the session due to improper behavior.</span></span></span></li>\n</ol>\n\n<p style="box-sizing: border-box\; margin-top: 0px\; margin-right: 0px\; margin-left: 0px\; border: 0px\; font-family: &quot\;Crimson Text&quot\;\, serif\; font-size: 16px\; outline: 0px\; padding: 0px\; vertical-align: baseline\; line-height: 1.6\; text-rendering: optimizelegibility\; cursor: text\; color: rgb(64\, 64\, 64)\; margin-bottom: 0.5rem !important\;"><b style="color: rgb(64\, 64\, 64)\; font-family: arial\; font-size: 12px\; box-sizing: border-box\; line-height: inherit\;">Questions?&nbsp\;</b><span style="color: rgb(64\, 64\, 64)\; font-family: arial\; font-size: 12px\;">Call the Post at: (262) 251-5470</span></p>\n
LOCATION:American Legion Post 1 N120W15932 Freistadt Rd Germantown
UID:e.2331.8649
SEQUENCE:3
DTSTAMP:20260421T115741Z
URL:https://www.germantownchamber.org/events/details/bingo-night-at-the-american-legion-post-1-11-06-2025-8649
END:VEVENT

END:VCALENDAR
