BEGIN:VCALENDAR
VERSION:2.0
PRODID:-//ChamberMaster//Event Calendar 2.0//EN
METHOD:PUBLISH
X-PUBLISHED-TTL:P3D
REFRESH-INTERVAL:P3D
CALSCALE:GREGORIAN
BEGIN:VEVENT
DTSTART:20251103T190000Z
DTEND:20251104T000000Z
X-MICROSOFT-CDO-ALLDAYEVENT:FALSE
SUMMARY:Blood Drive sponsored by Kiwanis & American Legion Post 1
DESCRIPTION:Give the gift of blood!!
X-ALT-DESC;FMTTYPE=text/html:Give the gift of blood!!
LOCATION:N120W15932 Freistadt Rd Germantown\, WI 53022
UID:e.2331.8688
SEQUENCE:3
DTSTAMP:20260421T115830Z
URL:https://www.germantownchamber.org/events/details/blood-drive-sponsored-by-kiwanis-american-legion-post-1-11-04-2025-8688
END:VEVENT

END:VCALENDAR
