BEGIN:VCALENDAR
VERSION:2.0
PRODID:-//ChamberMaster//Event Calendar 2.0//EN
METHOD:PUBLISH
X-PUBLISHED-TTL:P3D
REFRESH-INTERVAL:P3D
CALSCALE:GREGORIAN
BEGIN:VEVENT
DTSTART:20260109T150000Z
DTEND:20260109T160000Z
X-MICROSOFT-CDO-ALLDAYEVENT:FALSE
SUMMARY:Bring a Friend Breakfast Bingo - Chick-fil-A
DESCRIPTION:Join us for Breakfast Bingo - Bring a Friend edition! Bring a friend who has never played Bingo with us and you both receive extra Bingo boards\, while supplies last.
X-ALT-DESC;FMTTYPE=text/html:<span style="color: rgb(8\, 8\, 9)\; font-family: &quot\;Segoe UI Historic&quot\;\, &quot\;Segoe UI&quot\;\, Helvetica\, Arial\, sans-serif\; font-size: 15px\;">Join us for Breakfast Bingo - Bring a Friend edition! Bring a friend who has never played Bingo with us and you both receive extra Bingo boards\, while supplies last.&nbsp\;</span>
LOCATION:Chick-fil-A W185 N9590 Bancroft Dr Menomonee Falls
UID:e.2331.10688
SEQUENCE:3
DTSTAMP:20260420T143527Z
URL:https://www.germantownchamber.org/events/details/bring-a-friend-breakfast-bingo-chick-fil-a-10688
END:VEVENT

END:VCALENDAR
