BEGIN:VCALENDAR
VERSION:2.0
PRODID:-//ChamberMaster//Event Calendar 2.0//EN
METHOD:PUBLISH
X-PUBLISHED-TTL:P3D
REFRESH-INTERVAL:P3D
CALSCALE:GREGORIAN
BEGIN:VEVENT
DTSTART:20260318T133000Z
DTEND:20260318T163000Z
X-MICROSOFT-CDO-ALLDAYEVENT:FALSE
SUMMARY:Brunch & Learn for Realtors - Flat Branch Home Mortgage
DESCRIPTION:You're invited to a Brunch & Learn for Realtors!\n\nSet up your clients for success with the right team!\n\n\n\nStacy Wolak - Flat Branch Home Loans\n\nLaura Behrens - Northwestern Mutual
X-ALT-DESC;FMTTYPE=text/html:You&#39\;re invited to a Brunch &amp\; Learn for Realtors!<br />\nSet up your clients for success with the right team!<br />\n<br />\nStacy Wolak - Flat Branch Home Loans<br />\nLaura Behrens - Northwestern Mutual<br />\n&nbsp\;
LOCATION:The Hub Social Brews 303 Water St West Bend
UID:e.2331.11187
SEQUENCE:3
DTSTAMP:20260422T130518Z
URL:https://www.germantownchamber.org/events/details/brunch-learn-for-realtors-flat-branch-home-mortgage-11187
END:VEVENT

END:VCALENDAR
