BEGIN:VCALENDAR
VERSION:2.0
PRODID:-//ChamberMaster//Event Calendar 2.0//EN
METHOD:PUBLISH
X-PUBLISHED-TTL:P3D
REFRESH-INTERVAL:P3D
CALSCALE:GREGORIAN
BEGIN:VEVENT
DTSTART:20260426T140000Z
DTEND:20260426T210000Z
X-MICROSOFT-CDO-ALLDAYEVENT:FALSE
SUMMARY:CANCELLED Scrap Metal Drive - Friends of Leadership Germantown
DESCRIPTION:We are sorry\, we filled out dumpsters to the rim on Saturday and cannot accept anymore on Sunday.\n\nNO DUMPING is allowed now!\n\n\n\nDo not despair!!  Stay tuned for a one-day scrap metal drive coming soon.\n\n\n\nTime to clear out some stuff!\n\nScrap Metal Drive\n\nGet rid of your scrap metal and so much more and support the Friends of Leadership Germantown as they support those who would like to go through the Leadership Germantown program!\n\n\n\nThank you to A&W Iron & Metal Inc and Germantown Police Department for their support.\n\n\n\nDumping outside of the hours of the designated Scrap Metal Drive is Prohibited!\n\n\n\nNeed volunteer hours - sign up today!
X-ALT-DESC;FMTTYPE=text/html:We are sorry\, we filled out dumpsters to the rim on Saturday and cannot accept anymore on Sunday.<br />\nNO DUMPING is allowed now!<br />\n<br />\nDo not despair!!&nbsp\; Stay tuned for a one-day scrap metal drive coming soon.<br />\n<br />\nTime to clear out some stuff!<br />\nScrap Metal Drive<br />\nGet rid of your scrap metal and so much more and support the Friends of Leadership Germantown as they support those who would like to go through the Leadership Germantown program!<br />\n<br />\nThank you to <a href="https://awironmetal.com/">A&amp\;W Iron &amp\; Metal Inc</a> and Germantown Police Department for their support.<br />\n<br />\n<strong>Dumping outside of the hours of the designated Scrap Metal Drive is Prohibited!</strong><br />\n<br />\n<a href="https://www.signupgenius.com/go/8050A4FAEA72CA3FB6-61935974-scrap#/">Need volunteer hours - sign up today!</a>
LOCATION:Germantown Police Department Parking Lot N112W16877 Mequon Rd Germantown
UID:e.2331.11079
SEQUENCE:3
DTSTAMP:20260425T235548Z
URL:https://www.germantownchamber.org/events/details/cancelled-scrap-metal-drive-friends-of-leadership-germantown-11079
END:VEVENT

END:VCALENDAR
