BEGIN:VCALENDAR
VERSION:2.0
PRODID:-//ChamberMaster//Event Calendar 2.0//EN
METHOD:PUBLISH
X-PUBLISHED-TTL:P3D
REFRESH-INTERVAL:P3D
CALSCALE:GREGORIAN
BEGIN:VEVENT
DTSTART:20200614T170000Z
DTEND:20200614T200000Z
X-MICROSOFT-CDO-ALLDAYEVENT:FALSE
SUMMARY:CANCELLED - Step Back in Time
DESCRIPTION:Richfield Nature/Historical Park\, 1896 Hwy 164\, Richfield\, WI 53076 Spend an enjoyable Sunday afternoon at the Richfield Historical Park by visiting historic buildings and learning how day-to-day duties were done long ago. Be sure to arrive early enough to visit all the buildings. Buildings Open: Blacksmith Shop\, Sugar Shack\, Log Cabin and Log Barn Engaging activities for everyone Admission: $5\, children 5 and under FREE Event benefits Richfield Historical Society For more information visit richfieldhistoricalsociety.org Contact: Daryl Grier\, 262-628-4221
X-ALT-DESC;FMTTYPE=text/html:Richfield Nature/Historical Park\, 1896 Hwy 164\, Richfield\, WI 53076 Spend an enjoyable Sunday afternoon at the Richfield Historical Park by visiting historic buildings and learning how day-to-day duties were done long ago. Be sure to arrive early enough to visit all the buildings. Buildings Open: Blacksmith Shop\, Sugar Shack\, Log Cabin and Log Barn Engaging activities for everyone Admission: $5\, children 5 and under FREE Event benefits Richfield Historical Society For more information visit richfieldhistoricalsociety.org Contact: Daryl Grier\, 262-628-4221
LOCATION:Richfield Historical Park 1896 State Road HWY 164
UID:e.2331.3529
SEQUENCE:3
DTSTAMP:20260424T122503Z
URL:https://www.germantownchamber.org/events/details/cancelled-step-back-in-time-3529
END:VEVENT

END:VCALENDAR
