BEGIN:VCALENDAR
VERSION:2.0
PRODID:-//ChamberMaster//Event Calendar 2.0//EN
METHOD:PUBLISH
X-PUBLISHED-TTL:P3D
REFRESH-INTERVAL:P3D
CALSCALE:GREGORIAN
BEGIN:VEVENT
DTSTART:20260228T150000Z
DTEND:20260228T180000Z
X-MICROSOFT-CDO-ALLDAYEVENT:FALSE
SUMMARY:Candy & Snack Sampling Event - Fleet Farm
DESCRIPTION:What    Candy & Snacks Sampling\n\nWhen    Saturday\, February 28\n\nWhere    ALL Fleet Farm locations\n\nGet your taste buds ready to try some of your favorite candies and treats from our famous snack selection!\n\nWe'll have samples of Assorted Toffee\, Chocolate Raisins\, Orange Slices\, Cheesy Crunch Mix\, Honey Roasted Peanuts\, and our ALL NEW Everything Bagel Cashews\, and Strawberry Shortcake Cookie Bites! We'll have sample cups filled with some of your old favorites\, along with some new ones that you can add to your cart right away. If you're a snack-lover\, you won't want to miss this one! Learn more and find your closest store on our events page: https://www.fleetfarm.com/c/events
X-ALT-DESC;FMTTYPE=text/html:<span style="font-size:14px\;"><span style="font-family:arial\;"><span style="color:black\;">What </span><span style="color:black\;">&#10145\;&#65039\;</span><span style="color:black\;"> Candy &amp\; Snacks Sampling<br />\nWhen </span><span style="color:black\;">&#10145\;&#65039\;</span><span style="color:black\;"> Saturday\, February 28<br />\nWhere </span><span style="color:black\;">&#10145\;&#65039\; ALL Fleet Farm locations<br />\nGet your taste buds ready to try some of your favorite candies and treats from our famous snack selection!</span><br />\n<span style="color: rgb(8\, 8\, 9)\;">We&#39\;ll have samples of Assorted Toffee\, Chocolate Raisins\, Orange Slices\, Cheesy Crunch Mix\, Honey Roasted Peanuts\, and our ALL NEW Everything Bagel Cashews\, and Strawberry Shortcake Cookie Bites!</span><span style="color:black\;"> We&#39\;ll have sample cups filled with some of your old favorites\, along with some new ones that you can add to your cart right away. If you&#39\;re a snack-lover\, you won&#39\;t want to miss this one! Learn more and find your closest store on our events page: <a href="https://www.fleetfarm.com/c/events">https://www.fleetfarm.com/c/events</a></span></span></span>
LOCATION:Fleet Farm N96 W18200 County Line Road Germantown\, WI 53022 And all Fleet Farm locations
UID:e.2331.11134
SEQUENCE:3
DTSTAMP:20260420T051143Z
URL:https://www.germantownchamber.org/events/details/candy-snack-sampling-event-fleet-farm-11134
END:VEVENT

END:VCALENDAR
