BEGIN:VCALENDAR
VERSION:2.0
PRODID:-//ChamberMaster//Event Calendar 2.0//EN
METHOD:PUBLISH
X-PUBLISHED-TTL:P3D
REFRESH-INTERVAL:P3D
CALSCALE:GREGORIAN
BEGIN:VEVENT
DTSTART:20261114T150000Z
DTEND:20261114T224500Z
X-MICROSOFT-CDO-ALLDAYEVENT:FALSE
SUMMARY:Christmas Festival
DESCRIPTION:Jingle Bell Dash - 9:45AM\n\n5K Candy Cane Run Walk - 10:00AM\n\nChristmas Festival Parade - 1:30PM\n\nMore information on sponsorship\, participation and volunteering coming closer to the event date.
X-ALT-DESC;FMTTYPE=text/html:<div class="xdj266r x14z9mp xat24cr x1lziwak x1vvkbs" style="overflow-wrap: break-word\; margin-inline: 0px\; margin-bottom: 0px\; margin-top: 0px\; font-family: &quot\;Segoe UI Historic&quot\;\, &quot\;Segoe UI&quot\;\, Helvetica\, Arial\, sans-serif\; color: rgb(8\, 8\, 9)\; font-size: 15px\;"><span style="font-size:12px\;"><span style="font-family:tahoma\;">Jingle Bell Dash - 9:45AM<br />\n5K Candy Cane Run Walk - 10:00AM<br />\nChristmas Festival Parade - 1:30PM<br />\nMore information on sponsorship\, participation and volunteering&nbsp\;coming closer to the event date.</span></span></div>\n
LOCATION:Germantown\, WI
UID:e.2331.10662
SEQUENCE:3
DTSTAMP:20260423T150507Z
URL:https://www.germantownchamber.org/events/details/christmas-festival-10662
END:VEVENT

END:VCALENDAR
