BEGIN:VCALENDAR
VERSION:2.0
PRODID:-//ChamberMaster//Event Calendar 2.0//EN
METHOD:PUBLISH
X-PUBLISHED-TTL:P3D
REFRESH-INTERVAL:P3D
CALSCALE:GREGORIAN
BEGIN:VEVENT
DTSTART:20251122T150000Z
DTEND:20251122T190000Z
X-MICROSOFT-CDO-ALLDAYEVENT:FALSE
SUMMARY:Community Food Drive-Drop Off - St John UCC
DESCRIPTION:Community Drop Off\n\n\n\nNovember 22\, 2025 from 9am till 1pm we will be hosting a community drop off of non-perishable food items at\n\nSt. John N104W14181 Donges Bay Rd\, Germantown\, WI 53022.  Items Collected will go to local food pantries.
X-ALT-DESC;FMTTYPE=text/html:<strong>Community Drop Off</strong><br />\n<br />\nNovember 22\, 2025 from 9am till 1pm we will be hosting a community drop off of non-perishable food items at<br />\nSt. John N104W14181 Donges Bay Rd\, Germantown\, WI 53022.&nbsp\; Items Collected will go to local food pantries.\n<div>&nbsp\;</div>\n
LOCATION:St John UCC N104W14181 Donges Bay Rd\, Germantown\, WI 53022
UID:e.2331.10303
SEQUENCE:3
DTSTAMP:20260423T094652Z
URL:https://www.germantownchamber.org/events/details/community-food-drive-drop-off-st-john-ucc-10303
END:VEVENT

END:VCALENDAR
