BEGIN:VCALENDAR
VERSION:2.0
PRODID:-//ChamberMaster//Event Calendar 2.0//EN
METHOD:PUBLISH
X-PUBLISHED-TTL:P3D
REFRESH-INTERVAL:P3D
CALSCALE:GREGORIAN
BEGIN:VEVENT
DTSTART:20251117T190000Z
DTEND:20251117T210000Z
X-MICROSOFT-CDO-ALLDAYEVENT:FALSE
SUMMARY:Corn Hole/Open Sheepshead - Senior Center
DESCRIPTION:Take your pick from Corn Hole\, Sheepshead at 1PM!
X-ALT-DESC;FMTTYPE=text/html:Take your pick from Corn Hole\, Sheepshead at 1PM!
LOCATION:Germantown Senior Center W162N11960 Park Ave Germantown
UID:e.2331.7247
SEQUENCE:3
DTSTAMP:20260421T102452Z
URL:https://www.germantownchamber.org/events/details/corn-hole-open-sheepshead-wii-bowling-at-senior-center-11-17-2025-7247
END:VEVENT

END:VCALENDAR
