BEGIN:VCALENDAR
VERSION:2.0
PRODID:-//ChamberMaster//Event Calendar 2.0//EN
METHOD:PUBLISH
X-PUBLISHED-TTL:P3D
REFRESH-INTERVAL:P3D
CALSCALE:GREGORIAN
BEGIN:VEVENT
DTSTART:20251112T000000Z
DTEND:20251112T013000Z
X-MICROSOFT-CDO-ALLDAYEVENT:FALSE
SUMMARY:Dementia Caregiver Support Group - Fairway Knoll
DESCRIPTION:Purpose: Providing resources\, education and emotional support for those caring for a loved one with dementia.\n\nBenefits: Share experiences\, find encouragement\, and learn from others who understand the complexities of dementia care\n\n\n\nBen Ricker\, Education specialist\, will be our featured speaker\, he provides education full-time where he specializes in dementia training and has a BS in gerontology.
X-ALT-DESC;FMTTYPE=text/html:Purpose: Providing resources\, education and emotional support for those caring for a loved one with dementia.<br />\nBenefits: Share experiences\, find encouragement\, and learn from others who understand the complexities of dementia care<br />\n<br />\nBen Ricker\, Education specialist\, will be our featured speaker\, he provides education full-time where he specializes in dementia training and has a BS in gerontology.
LOCATION:Fairway Knoll Community Room N112W17500 Mequon Rd Germantown preshomes.org
UID:e.2331.10289
SEQUENCE:3
DTSTAMP:20260421T102444Z
URL:https://www.germantownchamber.org/events/details/dementia-caregiver-support-group-fairway-knoll-10289
END:VEVENT

END:VCALENDAR
