BEGIN:VCALENDAR
VERSION:2.0
PRODID:-//ChamberMaster//Event Calendar 2.0//EN
METHOD:PUBLISH
X-PUBLISHED-TTL:P3D
REFRESH-INTERVAL:P3D
CALSCALE:GREGORIAN
BEGIN:VEVENT
DTSTART:20251108T010000Z
DTEND:20251108T055000Z
X-MICROSOFT-CDO-ALLDAYEVENT:FALSE
SUMMARY:Dueling Pianos - BuB's Irish Pub
DESCRIPTION:NEW DUELING PIANOS! Wisconsin's Very Own Dueling Piano Entertainment RETURNS to Germantown! If you've seen us\, then you KNOW! If you haven't\, here's your chance! This request-based entertainment is sure to get you clapping and singing along. Toasts! Roasts! Yeah   they're the real deal! Delivering your favorite songs in only the way "The Guys" do   they're the perfect combination of comedy\, rockin' pianos\, and party!\n\nwww.NEWDuelingPianos.com\n\nReserved seats are available NOW for this fast-paced and hilariously entertaining event!\n\nDoors at 6pm   Show from 8-11pm\n\nReserved Seats   $25   Seats Toward the Back   $20\n\n(See Floor Plan)\n\nGet your groups together\, as November 7th will be a night you won't soon forget! NEW Dueling Pianos has performed HUNDREDS of crazy-fun shows to thousands statewide!\n\nCome out and see why "The Guys" continue to be one of the most 'in demand' shows in WI!
X-ALT-DESC;FMTTYPE=text/html:<p class="ql-align-center" style="box-sizing: inherit\; margin: 0px 0px 25px\; font-size: 16px\; color: rgb(255\, 255\, 255)\; line-height: 24px\; text-shadow: black 1px 1px 0px\; font-family: Montserrat\, sans-serif\; background-color: rgba(0\, 0\, 0\, 0.5)\;">NEW DUELING PIANOS! Wisconsin&rsquo\;s Very Own Dueling Piano Entertainment RETURNS to Germantown! If you&rsquo\;ve seen us\, then you KNOW! If you haven&rsquo\;t\, here&rsquo\;s your chance! This request-based entertainment is sure to get you clapping and singing along. Toasts! Roasts! Yeah &ndash\; they&rsquo\;re the real deal! Delivering your favorite songs in only the way &ldquo\;The Guys&rdquo\; do &ndash\; they&rsquo\;re the perfect combination of comedy\, rockin&rsquo\; pianos\, and party!</p>\n\n<p class="ql-align-center" style="box-sizing: inherit\; margin: 0px 0px 25px\; font-size: 16px\; color: rgb(255\, 255\, 255)\; line-height: 24px\; text-shadow: black 1px 1px 0px\; font-family: Montserrat\, sans-serif\; background-color: rgba(0\, 0\, 0\, 0.5)\;"><a href="https://newduelingpianos.com/" rel="noopener" style="box-sizing: inherit\; background-color: transparent\; color: rgb(252\, 164\, 19)\; text-decoration-line: none\; font-weight: 600\;" target="_blank">www.NEWDuelingPianos.com</a></p>\n\n<p style="box-sizing: inherit\; margin: 0px 0px 25px\; font-size: 16px\; color: rgb(255\, 255\, 255)\; line-height: 24px\; text-shadow: black 1px 1px 0px\; font-family: Montserrat\, sans-serif\; background-color: rgba(0\, 0\, 0\, 0.5)\;">Reserved seats are available NOW for this fast-paced and hilariously entertaining event!</p>\n\n<p style="box-sizing: inherit\; margin: 0px 0px 25px\; font-size: 16px\; color: rgb(255\, 255\, 255)\; line-height: 24px\; text-shadow: black 1px 1px 0px\; font-family: Montserrat\, sans-serif\; background-color: rgba(0\, 0\, 0\, 0.5)\;">Doors at 6pm &ndash\; Show from 8-11pm</p>\n\n<p style="box-sizing: inherit\; margin: 0px 0px 25px\; font-size: 16px\; color: rgb(255\, 255\, 255)\; line-height: 24px\; text-shadow: black 1px 1px 0px\; font-family: Montserrat\, sans-serif\; background-color: rgba(0\, 0\, 0\, 0.5)\;">Reserved Seats &ndash\; $25 &ndash\; Seats Toward the Back &ndash\; $20</p>\n\n<p style="box-sizing: inherit\; margin: 0px 0px 25px\; font-size: 16px\; color: rgb(255\, 255\, 255)\; line-height: 24px\; text-shadow: black 1px 1px 0px\; font-family: Montserrat\, sans-serif\; background-color: rgba(0\, 0\, 0\, 0.5)\;">(See Floor Plan)</p>\n\n<p style="box-sizing: inherit\; margin: 0px 0px 25px\; font-size: 16px\; color: rgb(255\, 255\, 255)\; line-height: 24px\; text-shadow: black 1px 1px 0px\; font-family: Montserrat\, sans-serif\; background-color: rgba(0\, 0\, 0\, 0.5)\;">Get your groups together\, as November 7th will be a night you won&rsquo\;t soon forget! NEW Dueling Pianos has performed HUNDREDS of crazy-fun shows to thousands statewide!</p>\n\n<p style="box-sizing: inherit\; margin: 0px 0px 25px\; font-size: 16px\; color: rgb(255\, 255\, 255)\; line-height: 24px\; text-shadow: black 1px 1px 0px\; font-family: Montserrat\, sans-serif\; background-color: rgba(0\, 0\, 0\, 0.5)\;">Come out and see why &ldquo\;The Guys&rdquo\; continue to be one of the most &lsquo\;in demand&rsquo\; shows in WI!</p>\n
LOCATION:Bub's Irish Pub N116W16218 Main St Germantown\, WI 53022
UID:e.2331.10276
SEQUENCE:3
DTSTAMP:20260421T114530Z
URL:https://www.germantownchamber.org/events/details/dueling-pianos-bub-s-irish-pub-10276
END:VEVENT

END:VCALENDAR
