BEGIN:VCALENDAR
VERSION:2.0
PRODID:-//ChamberMaster//Event Calendar 2.0//EN
METHOD:PUBLISH
X-PUBLISHED-TTL:P3D
REFRESH-INTERVAL:P3D
CALSCALE:GREGORIAN
BEGIN:VEVENT
DTSTART:20260514T130000Z
DTEND:20260514T143000Z
X-MICROSOFT-CDO-ALLDAYEVENT:FALSE
SUMMARY:Entrepreneurs' Edge - How to Sell Like Crazy- While Still Being Authentically You - Tower Heritage Center
DESCRIPTION:Meet Entrepreneurs' Edge   Networking for driven entrepreneurs that feels like "business book club." Save your seat for these quarterly networking events to:\n\n\n	Gain actionable insights from rockstar speakers who have been in your shoes. \n	Share advice (and a laugh or two) with fellow entrepreneurs. \n	Sip on a killer cuppa' joe in our community's entrepreneurship hub\, 'The Exchange.'
X-ALT-DESC;FMTTYPE=text/html:<p style="box-sizing: border-box\; margin: 0px\; grid-column: main\; font-family: georgia_pro\, serif\; font-size: 17px\;"><strong style="box-sizing: border-box\;">Meet Entrepreneurs&#39\; Edge</strong>&nbsp\;&ndash\; Networking for driven entrepreneurs that feels like&nbsp\;<em style="box-sizing: border-box\;">&ldquo\;business book club.&rdquo\;</em>&nbsp\;<a href="https://zshgpv3gh8e.typeform.com/to/WxDqXpd0?ref=thetowerheritagecenter.org" rel="noreferrer" style="box-sizing: border-box\; color: rgb(99\, 103\, 83)\; text-decoration-skip-ink: auto\; opacity: 0.8\; word-break: break-word\;">Save your seat</a>&nbsp\;for these quarterly networking events to:</p>\n\n<ul style="box-sizing: border-box\; grid-column: main\; margin-bottom: 0px\; margin-top: 27.2px\; padding-left: 2.8rem\; font-family: georgia_pro\, serif\; font-size: 17px\;">\n	<li style="box-sizing: border-box\;">Gain actionable insights from rockstar speakers who have been in your shoes.&nbsp\;</li>\n	<li style="box-sizing: border-box\; margin-top: 0.8rem\;">Share advice (and a laugh or two) with fellow entrepreneurs.&nbsp\;</li>\n	<li style="box-sizing: border-box\; margin-top: 0.8rem\;">Sip on a killer cuppa&rsquo\; joe in our community&rsquo\;s entrepreneurship hub\, &lsquo\;The Exchange.&rsquo\;&nbsp\;</li>\n</ul>\n
LOCATION:All Entrepreneurs' Edge events are hosted in The Exchange - our community's entrepreneurship hub. 2nd Floor | 1889 Courthouse 320 S 5th Ave West Bend
UID:e.2331.11131
SEQUENCE:3
DTSTAMP:20260420T115449Z
URL:https://www.germantownchamber.org/events/details/entrepreneurs-edge-how-to-sell-like-crazy-while-still-being-authentically-you-tower-heritage-center-11131
END:VEVENT

END:VCALENDAR
