BEGIN:VCALENDAR
VERSION:2.0
PRODID:-//ChamberMaster//Event Calendar 2.0//EN
METHOD:PUBLISH
X-PUBLISHED-TTL:P3D
REFRESH-INTERVAL:P3D
CALSCALE:GREGORIAN
BEGIN:VEVENT
DTSTART:20260104T030000Z
DTEND:20260104T053000Z
X-MICROSOFT-CDO-ALLDAYEVENT:FALSE
SUMMARY:FallBack - Bub's Irish Pub
DESCRIPTION:Join Bub's Irish Pub in welcoming FallBack!
X-ALT-DESC;FMTTYPE=text/html:Join Bub&#39\;s Irish Pub in welcoming FallBack!<br />\n&nbsp\;
LOCATION:Bubs Irish Pub N116W16218 Main St. Germantown\, WI
UID:e.2331.10677
SEQUENCE:3
DTSTAMP:20260420T154439Z
URL:https://www.germantownchamber.org/events/details/fallback-bub-s-irish-pub-10677
END:VEVENT

END:VCALENDAR
