BEGIN:VCALENDAR
VERSION:2.0
PRODID:-//ChamberMaster//Event Calendar 2.0//EN
METHOD:PUBLISH
X-PUBLISHED-TTL:P3D
REFRESH-INTERVAL:P3D
CALSCALE:GREGORIAN
BEGIN:VEVENT
DTSTART:20260109T233000Z
DTEND:20260110T023000Z
X-MICROSOFT-CDO-ALLDAYEVENT:FALSE
SUMMARY:Family Film Fridays - Germantown PAC
DESCRIPTION:Get out of the house and hit the PAC for some movie time!  Fun for the whole family!\n\nJan 9 - Elf\n\nJan 16 - The Wild Robot\n\nJan 23 - Elio\n\nJan 30 - Bad Guys 2
X-ALT-DESC;FMTTYPE=text/html:Get out of the house and hit the PAC for some movie time!&nbsp\; Fun for the whole family!<br />\nJan 9 - Elf<br />\nJan 16 - The Wild Robot<br />\nJan 23 - Elio<br />\nJan 30 - Bad Guys 2
LOCATION:Germantown Performing Arts Center W180 N11501 River Lane Germantown\, WI 53022
UID:e.2331.10663
SEQUENCE:3
DTSTAMP:20260420T154843Z
URL:https://www.germantownchamber.org/events/details/family-film-fridays-germantown-pac-10663
END:VEVENT

END:VCALENDAR
