BEGIN:VCALENDAR
VERSION:2.0
PRODID:-//ChamberMaster//Event Calendar 2.0//EN
METHOD:PUBLISH
X-PUBLISHED-TTL:P3D
REFRESH-INTERVAL:P3D
CALSCALE:GREGORIAN
BEGIN:VEVENT
DTSTART:20260126T230000Z
DTEND:20260127T010000Z
X-MICROSOFT-CDO-ALLDAYEVENT:FALSE
SUMMARY:Family Night Bingo - Chick-fil-A
DESCRIPTION:Join us for a Family Night where we will play everyone's favorite: Bingo!
X-ALT-DESC;FMTTYPE=text/html:<span style="color: rgb(8\, 8\, 9)\; font-family: &quot\;Segoe UI Historic&quot\;\, &quot\;Segoe UI&quot\;\, Helvetica\, Arial\, sans-serif\; font-size: 15px\;">Join us for a Family Night where we will play everyone&#39\;s favorite: Bingo!&nbsp\;</span>
LOCATION:Chick-fil-A W185 N9590 Bancroft Dr Menomonee Falls
UID:e.2331.10687
SEQUENCE:3
DTSTAMP:20260420T154741Z
URL:https://www.germantownchamber.org/events/details/family-night-bingo-chick-fil-a-10687
END:VEVENT

END:VCALENDAR
