BEGIN:VCALENDAR
VERSION:2.0
PRODID:-//ChamberMaster//Event Calendar 2.0//EN
METHOD:PUBLISH
X-PUBLISHED-TTL:P3D
REFRESH-INTERVAL:P3D
CALSCALE:GREGORIAN
BEGIN:VEVENT
DTSTART:20260211T230000Z
DTEND:20260212T020000Z
X-MICROSOFT-CDO-ALLDAYEVENT:FALSE
SUMMARY:Father Daughter Date Royal Ball - Chick-fil-A
DESCRIPTION:Join us for a fun night!
X-ALT-DESC;FMTTYPE=text/html:<font color="#080809" face="Segoe UI Historic\, Segoe UI\, Helvetica\, Arial\, sans-serif"><span style="font-size: 15px\;">Join us for a fun night!</span></font>
LOCATION:Chick-fil-A W185 N9590 Bancroft Dr Menomonee Falls
UID:e.2331.10689
SEQUENCE:3
DTSTAMP:20260420T051916Z
URL:https://www.germantownchamber.org/events/details/father-daughter-date-royal-ball-chick-fil-a-10689
END:VEVENT

END:VCALENDAR
