BEGIN:VCALENDAR
VERSION:2.0
PRODID:-//ChamberMaster//Event Calendar 2.0//EN
METHOD:PUBLISH
X-PUBLISHED-TTL:P3D
REFRESH-INTERVAL:P3D
CALSCALE:GREGORIAN
BEGIN:VEVENT
DTSTART:20260120T220000Z
DTEND:20260121T000000Z
X-MICROSOFT-CDO-ALLDAYEVENT:FALSE
SUMMARY:Fond du Lac Rd Project Public Involvement Meeting - DOT
DESCRIPTION:Open Hours Format Meeting to discuss the 2028 proposed project to replace pavement on 1.1 miles of WIS 145 from Pilgrim Rd to just south of Division Rd.
X-ALT-DESC;FMTTYPE=text/html:Open Hours Format Meeting to discuss the 2028 proposed project to replace pavement on 1.1 miles of WIS 145 from Pilgrim Rd to just south of Division Rd.
LOCATION:Germantown Community Library N112W16957 Mequon Rd Germantown
UID:e.2331.11060
SEQUENCE:3
DTSTAMP:20260420T170804Z
URL:https://www.germantownchamber.org/events/details/fond-du-lac-rd-project-public-involvement-meeting-dot-11060
END:VEVENT

END:VCALENDAR
