BEGIN:VCALENDAR
VERSION:2.0
PRODID:-//ChamberMaster//Event Calendar 2.0//EN
METHOD:PUBLISH
X-PUBLISHED-TTL:P3D
REFRESH-INTERVAL:P3D
CALSCALE:GREGORIAN
BEGIN:VEVENT
DTSTART:20260208T180000Z
DTEND:20260208T210000Z
X-MICROSOFT-CDO-ALLDAYEVENT:FALSE
SUMMARY:Galentine's Self Care Social - The Contrology Center Pilates Studio
DESCRIPTION:Please join us!\n\n- Recharge with complimentary guided pilates - no experience needed!\n\n- Refresh with complimentary Belle beach wave tutorial & consultations\n\n- Treat yourself to fresh styles from Kasey's Closet    \n\n \nCome experience classical pilates at The Contrology Center in their fully equipped studio through interactive stations featuring all of their pilates apparatus. Their expert instructors will be on hand to guide you and introduce you to the incredible benefits of pilates. All complimentary. No experience needed.\n\nBelle Salon will be offering complimentary signature Belle beach wave tutorials\, as well as complimentary consultations to chat all things hair.\n\nTreat yourself to fresh styles from Kasey's Closet Boutique. Need help finding your style? Let Kasey help you find the perfect fit and style for you.
X-ALT-DESC;FMTTYPE=text/html:Please join us!<br />\n- Recharge with complimentary guided pilates - no experience needed!<br />\n- Refresh with complimentary Belle beach wave tutorial &amp\; consultations<br />\n- Treat yourself to fresh styles from Kasey&#39\;s Closet&nbsp\;&nbsp\;&nbsp\;&nbsp\;<br />\n&nbsp\;\n<div class="x14z9mp xat24cr x1lziwak x1vvkbs xtlvy1s" style="overflow-wrap: break-word\; margin-top: 0.5em\; margin-inline: 0px\; margin-bottom: 0px\; font-family: &quot\;Segoe UI Historic&quot\;\, &quot\;Segoe UI&quot\;\, Helvetica\, Arial\, sans-serif\; color: rgb(8\, 8\, 9)\; font-size: 15px\;">Come experience classical pilates at The Contrology Center in their fully equipped studio through interactive stations featuring all of their pilates apparatus. Their expert instructors will be on hand to guide you and introduce you to the incredible benefits of pilates. All complimentary. No experience needed.</div>\n\n<div class="x14z9mp xat24cr x1lziwak x1vvkbs xtlvy1s" style="overflow-wrap: break-word\; margin-top: 0.5em\; margin-inline: 0px\; margin-bottom: 0px\; font-family: &quot\;Segoe UI Historic&quot\;\, &quot\;Segoe UI&quot\;\, Helvetica\, Arial\, sans-serif\; color: rgb(8\, 8\, 9)\; font-size: 15px\;">Belle Salon will be offering complimentary signature Belle beach wave tutorials\, as well as complimentary consultations to chat all things hair.</div>\n\n<div class="x14z9mp xat24cr x1lziwak x1vvkbs xtlvy1s" style="overflow-wrap: break-word\; margin-top: 0.5em\; margin-inline: 0px\; margin-bottom: 0px\; font-family: &quot\;Segoe UI Historic&quot\;\, &quot\;Segoe UI&quot\;\, Helvetica\, Arial\, sans-serif\; color: rgb(8\, 8\, 9)\; font-size: 15px\;">Treat yourself to fresh styles from Kasey&#39\;s Closet Boutique. Need help finding your style? Let Kasey help you find the perfect fit and style for you.</div>\n
LOCATION:The Contrology Center Pilates Studio N112W16700 Mequon Rd Germantown
UID:e.2331.11057
SEQUENCE:3
DTSTAMP:20260420T052111Z
URL:https://www.germantownchamber.org/events/details/galentine-s-self-care-social-the-contrology-center-pilates-studio-11057
END:VEVENT

END:VCALENDAR
