BEGIN:VCALENDAR
VERSION:2.0
PRODID:-//ChamberMaster//Event Calendar 2.0//EN
METHOD:PUBLISH
X-PUBLISHED-TTL:P3D
REFRESH-INTERVAL:P3D
CALSCALE:GREGORIAN
BEGIN:VEVENT
DTSTART:20260219T230000Z
DTEND:20260220T040000Z
X-MICROSOFT-CDO-ALLDAYEVENT:FALSE
SUMMARY:GCSF's 41st Annual Dinner & Auction: Lights\, Camera\, AUCTION!
DESCRIPTION:Enjoy a night of bidding and dining in cinematic style as we raise funds\n\nfor the Germantown area 2026 high school graduates!\n\n \n\nThis year's event will showcase great silent auction items\, fun raffle events\, and an enthusiastic live auction. \n\nA few featured items include the ever-popular Wine and Bourbon Raffles as well as a reimagined Calendar Raffle. You won't want to miss it!  \n\n\n\nVisit https://one.bidpal.net/gcsf2026dinnerandauction to purchase tickets\, donate auction items or donate monetarily. Thank you for joining us in raising funds for this year's Senior class!
X-ALT-DESC;FMTTYPE=text/html:<div style="text-align:center"><span style="font-size:14px">Enjoy a night of bidding and dining in cinematic style&nbsp\;as we raise funds<br />\nfor the Germantown area 2026 high school graduates!</span></div>\n\n<div style="text-align:center">&nbsp\;</div>\n\n<div style="text-align:center"><span style="font-size:14px">This year&#39\;s event will showcase great silent auction items\, fun raffle events\, and an enthusiastic&nbsp\;live auction.&nbsp\;<br />\nA few featured items include the ever-popular Wine and Bourbon Raffles as well as a reimagined Calendar Raffle. <em><strong>You won&#39\;t want to miss it!&nbsp\;&nbsp\;</strong></em></span><br />\n<br />\nVisit<em><strong>&nbsp\;</strong></em><a href="https://one.bidpal.net/gcsf2026dinnerandauction">https://one.bidpal.net/gcsf2026dinnerandauction</a>&nbsp\;to purchase tickets\, donate auction items or donate monetarily. Thank you for joining us in raising funds for this year&#39\;s Senior class!</div>\n
LOCATION:The Florian Event Venue N111W18611 Mequon Rd Germantown\, WI\, 53022
UID:e.2331.10292
SEQUENCE:3
DTSTAMP:20260420T051843Z
URL:https://www.germantownchamber.org/events/details/gcsf-s-41st-annual-dinner-auction-lights-camera-auction-10292
END:VEVENT

END:VCALENDAR
