BEGIN:VCALENDAR
VERSION:2.0
PRODID:-//ChamberMaster//Event Calendar 2.0//EN
METHOD:PUBLISH
X-PUBLISHED-TTL:P3D
REFRESH-INTERVAL:P3D
CALSCALE:GREGORIAN
BEGIN:VEVENT
DTSTART:20251124T180000Z
DTEND:20251124T183000Z
X-MICROSOFT-CDO-ALLDAYEVENT:FALSE
SUMMARY:Good Vibes CBD & Wellness Ribbon Cutting
DESCRIPTION:Join Good Vibes CBD & Wellness for a celebration of their FIRST year and recent Chamber membership!\n\n\n\nRibbon Cutting and learn more about Good Vibes!
X-ALT-DESC;FMTTYPE=text/html:Join Good Vibes CBD &amp\; Wellness for a celebration of their FIRST year and recent Chamber membership!<br />\n<br />\nRibbon Cutting and learn more about Good Vibes!
LOCATION:1241 Hwy 175 Hubertus
UID:e.2331.10419
SEQUENCE:3
DTSTAMP:20260421T130008Z
URL:https://www.germantownchamber.org/events/details/good-vibes-cbd-wellness-ribbon-cutting-10419
END:VEVENT

END:VCALENDAR
