BEGIN:VCALENDAR
VERSION:2.0
PRODID:-//ChamberMaster//Event Calendar 2.0//EN
METHOD:PUBLISH
X-PUBLISHED-TTL:P3D
REFRESH-INTERVAL:P3D
CALSCALE:GREGORIAN
BEGIN:VEVENT
DTSTART:20260201T030000Z
DTEND:20260201T055000Z
X-MICROSOFT-CDO-ALLDAYEVENT:FALSE
SUMMARY:Hairbanger's Ball - BuB's Irish Pub
DESCRIPTION:BANG YOUR HEAD! We're bringin' all the hair spray\, all the spandex\, and all the Jack Daniels to Bubs Irish Pub \n\nHAIRBANGERS BALL:\n\nBorn from a "what if?" scenario\, Hairbanger's Ball has entrenched themselves as one of the most sought after "80's Hair Rock Tribute Bands" in the United States after years of performing sold out shows from coast to coast\, all while exuding the same expert musicianship and flair for the theatrical as their idols. Now on the cusp of celebrating 16 years in existence\, Hairbanger's Ball has been a mainstay in music for longer than some of their celebrity counterparts\, and routinely perform over 150 shows a year.\n\nWhether you're looking to bring back the memory of a favorite concert seen in 1985 or seeking a true-to-life representation of what a rock concert was like in the 80's\, Hairbanger's Ball provides both the music and the mayhem for young and old alike\, bundled together in a 6-piece\, high octane lineup. Featuring powerful male and female lead vocals\, some serious ax grinding and renditions of classic songs so much like the original you'd swear you'd gone back in time\, Hairbanger's Ball leaves nothing to be desired after seeing and listening to them live\, which is why they've been named "Best Rock Band" in Chicago by their throngs of adoring fans.
X-ALT-DESC;FMTTYPE=text/html:<p style="box-sizing: inherit\; margin: 0px 0px 25px\; font-size: 16px\; color: rgb(255\, 255\, 255)\; line-height: 24px\; text-shadow: black 1px 1px 0px\; font-family: Montserrat\, sans-serif\; background-color: rgba(0\, 0\, 0\, 0.5)\;">B<span style="font-family:arial\;">ANG YOUR HEAD! We&rsquo\;re bringin&rsquo\; all the hair spray\, all the spandex\, and all the Jack Daniels to&nbsp\;<a href="https://www.facebook.com/bubsirishpubeventcenter" rel="noopener noreferrer" style="box-sizing: inherit\; background-color: transparent\; color: rgb(252\, 164\, 19)\; text-decoration-line: none\; font-weight: 600\;" target="_blank">Bubs Irish Pub</a>&nbsp\;</span></p>\n\n<p style="box-sizing: inherit\; margin: 0px 0px 25px\; font-size: 16px\; color: rgb(255\, 255\, 255)\; line-height: 24px\; text-shadow: black 1px 1px 0px\; font-family: Montserrat\, sans-serif\; background-color: rgba(0\, 0\, 0\, 0.5)\;"><span style="font-family:arial\;">HAIRBANGERS BALL:</span></p>\n\n<p style="box-sizing: inherit\; margin: 0px 0px 25px\; font-size: 16px\; color: rgb(255\, 255\, 255)\; line-height: 24px\; text-shadow: black 1px 1px 0px\; font-family: Montserrat\, sans-serif\; background-color: rgba(0\, 0\, 0\, 0.5)\;"><span style="font-family:arial\;">Born from a &ldquo\;what if?&rdquo\; scenario\, Hairbanger&rsquo\;s Ball has entrenched themselves as one of the most sought after &ldquo\;80&rsquo\;s Hair Rock Tribute Bands&rdquo\; in the United States after years of performing sold out shows from coast to coast\, all while exuding the same expert musicianship and flair for the theatrical as their idols. Now on the cusp of celebrating 16 years in existence\, Hairbanger&rsquo\;s Ball has been a mainstay in music for longer than some of their celebrity counterparts\, and routinely perform over 150 shows a year.</span></p>\n\n<p style="box-sizing: inherit\; margin: 0px 0px 25px\; font-size: 16px\; color: rgb(255\, 255\, 255)\; line-height: 24px\; text-shadow: black 1px 1px 0px\; font-family: Montserrat\, sans-serif\; background-color: rgba(0\, 0\, 0\, 0.5)\;"><span style="font-family:arial\;">Whether you&rsquo\;re looking to bring back the memory of a favorite concert seen in 1985 or seeking a true-to-life representation of what a rock concert was like in the 80&rsquo\;s\, Hairbanger&rsquo\;s Ball provides both the music and the mayhem for young and old alike\, bundled together in a 6-piece\, high octane lineup. Featuring powerful male and female lead vocals\, some serious ax grinding and renditions of classic songs so much like the original you&rsquo\;d swear you&rsquo\;d gone back in time\, Hairbanger&rsquo\;s Ball leaves nothing to be desired after seeing and listening to them live\, which is why they&rsquo\;ve been named &ldquo\;Best Rock Band&rdquo\; in Chicago by their throngs of adoring fans.</span></p>\n
LOCATION:BuB's Irish Pub N116W16218 Main St\, Germantown\, WI 53022
UID:e.2331.10679
SEQUENCE:3
DTSTAMP:20260420T154656Z
URL:https://www.germantownchamber.org/events/details/hairbanger-s-ball-bub-s-irish-pub-10679
END:VEVENT

END:VCALENDAR
