BEGIN:VCALENDAR
VERSION:2.0
PRODID:-//ChamberMaster//Event Calendar 2.0//EN
METHOD:PUBLISH
X-PUBLISHED-TTL:P3D
REFRESH-INTERVAL:P3D
CALSCALE:GREGORIAN
BEGIN:VEVENT
DTSTART:20251102T160000Z
DTEND:20251102T210000Z
X-MICROSOFT-CDO-ALLDAYEVENT:FALSE
SUMMARY:Holiday Craft Fair - Gables of Germantown
DESCRIPTION:Mark your calendar for the Gables of Germantown's Holiday Craft Fair! The Holiday Craft Fair features local artisans\, hand-crafted gifts\, home decor\, jewelry\, soaps\, ornaments\, and so much more!
X-ALT-DESC;FMTTYPE=text/html:<span style="color: rgb(5\, 5\, 5)\; font-family: &quot\;Segoe UI Historic&quot\;\, &quot\;Segoe UI&quot\;\, Helvetica\, Arial\, sans-serif\; font-size: 15px\;">Mark your calendar for the Gables of Germantown&#39\;s&nbsp\;</span><span style="font-family: &quot\;Segoe UI Historic&quot\;\, &quot\;Segoe UI&quot\;\, Helvetica\, Arial\, sans-serif\; color: rgb(5\, 5\, 5)\; font-size: 15px\;"><a class="x1i10hfl xjbqb8w x6umtig x1b1mbwd xaqea5y xav7gou x9f619 x1ypdohk xt0psk2 xe8uvvx xdj266r x11i5rnm xat24cr x1mh8g0r xexx8yu x4uap5 x18d9i69 xkhd6sd x16tdsg8 x1hl2dhg xggy1nq x1a2a7pz xt0b8zv xzsf02u x1s688f" href="https://www.facebook.com/events/832262998637406/?__cft__[0]=AZUjUs0F94PFGGScVIfuXq3lLGkwKkp2D1tENL75-EFOzTSu0DxmFpWDp7Hl_QuFAL4WecbwN0jhtBLlx664g7ex6zAZe9CSTmmgSogfdKYQW9r4JSsyYUjjq2lFkJsMVOwZUABlkcC8vUw0Rl3OLcZ5pFSI1jY0ufZo9u8GVnQgdl5ALvjFq-eVJv69BKD0tq8&amp\;__tn__=-UK*F" role="link" style="color: var(--primary-text)\; cursor: pointer\; text-decoration-line: none\; border-width: 0px\; border-style: initial\; border-color: initial\; outline: none\; list-style: none\; margin: 0px\; text-align: inherit\; padding: 0px\; -webkit-tap-highlight-color: transparent\; font-weight: 600\; box-sizing: border-box\; touch-action: manipulation\; background-color: transparent\; display: inline\; font-family: inherit\;" tabindex="0"><span class="xt0psk2" style="display: inline\; font-family: inherit\;">Holiday Craft Fair</span></a></span><span style="color: rgb(5\, 5\, 5)\; font-family: &quot\;Segoe UI Historic&quot\;\, &quot\;Segoe UI&quot\;\, Helvetica\, Arial\, sans-serif\; font-size: 15px\;">! The Holiday Craft Fair features local artisans\, hand-crafted gifts\, home decor\, jewelry\, soaps\, ornaments\, and so much more!</span>
LOCATION:The Gables of Germantown N109W17075 Ava Circle Germantown
UID:e.2331.10299
SEQUENCE:3
DTSTAMP:20260421T115740Z
URL:https://www.germantownchamber.org/events/details/holiday-craft-fair-gables-of-germantown-10299
END:VEVENT

END:VCALENDAR
