BEGIN:VCALENDAR
VERSION:2.0
PRODID:-//ChamberMaster//Event Calendar 2.0//EN
METHOD:PUBLISH
X-PUBLISHED-TTL:P3D
REFRESH-INTERVAL:P3D
CALSCALE:GREGORIAN
BEGIN:VEVENT
DTSTART:20251122T150000Z
DTEND:20251122T210000Z
X-MICROSOFT-CDO-ALLDAYEVENT:FALSE
SUMMARY:Holiday Craft Fair - Washington County Fair Park
DESCRIPTION:Looking for the perfect holiday gifts??  Get ready for the most festive event of the season! Join us for the deer hunters' widow Annual Holiday Craft Fair at the Washington County Fair Park.\n\nDiscover a wide array of handcrafted goods from over 200 talented local artisans\, including unique home decor\, jewelry\, art\, and so much more! It's the perfect place to find one-of-a-kind gifts and support small businesses.\n\nDon't miss out on this wonderful opportunity to kick off the holiday season!
X-ALT-DESC;FMTTYPE=text/html:<div class="xdj266r x11i5rnm xat24cr x1mh8g0r x1vvkbs" style="margin: 0px\; overflow-wrap: break-word\; font-family: &quot\;Segoe UI Historic&quot\;\, &quot\;Segoe UI&quot\;\, Helvetica\, Arial\, sans-serif\; color: rgb(8\, 8\, 9)\; font-size: 15px\;">Looking for the perfect holiday gifts??&nbsp\; Get ready for the most festive event of the season! Join us for the deer hunters&rsquo\; widow Annual Holiday Craft Fair&nbsp\;at the Washington County Fair Park.</div>\n\n<div class="x11i5rnm xat24cr x1mh8g0r x1vvkbs xtlvy1s" style="margin: 0.5em 0px 0px\; overflow-wrap: break-word\; font-family: &quot\;Segoe UI Historic&quot\;\, &quot\;Segoe UI&quot\;\, Helvetica\, Arial\, sans-serif\; color: rgb(8\, 8\, 9)\; font-size: 15px\;">Discover a wide array of handcrafted goods from over 200 talented local artisans\, including unique home decor\, jewelry\, art\, and so much more! It&rsquo\;s the perfect place to find one-of-a-kind gifts and support small businesses.</div>\n\n<div class="x11i5rnm xat24cr x1mh8g0r x1vvkbs xtlvy1s" style="margin: 0.5em 0px 0px\; overflow-wrap: break-word\; font-family: &quot\;Segoe UI Historic&quot\;\, &quot\;Segoe UI&quot\;\, Helvetica\, Arial\, sans-serif\; color: rgb(8\, 8\, 9)\; font-size: 15px\;">Don&rsquo\;t miss out on this wonderful opportunity to kick off the holiday season!</div>\n\n<div class="x11i5rnm xat24cr x1mh8g0r x1vvkbs xtlvy1s" style="margin: 0.5em 0px 0px\; overflow-wrap: break-word\; font-family: &quot\;Segoe UI Historic&quot\;\, &quot\;Segoe UI&quot\;\, Helvetica\, Arial\, sans-serif\; color: rgb(8\, 8\, 9)\; font-size: 15px\;">&nbsp\;</div>\n
LOCATION:Washington County Fair Park 3000 County Hwy PV West Bend
UID:e.2331.10301
SEQUENCE:3
DTSTAMP:20260421T102611Z
URL:https://www.germantownchamber.org/events/details/holiday-craft-fair-washington-county-fair-park-10301
END:VEVENT

END:VCALENDAR
