BEGIN:VCALENDAR
VERSION:2.0
PRODID:-//ChamberMaster//Event Calendar 2.0//EN
METHOD:PUBLISH
X-PUBLISHED-TTL:P3D
REFRESH-INTERVAL:P3D
CALSCALE:GREGORIAN
BEGIN:VEVENT
DTSTART:20260228T150000Z
DTEND:20260228T160000Z
X-MICROSOFT-CDO-ALLDAYEVENT:FALSE
SUMMARY:Homebuyer Coffee Chat - Shorewest Realtors & Landmark Credit Union
DESCRIPTION:Thinking about buying your first home but not sure where to start?\n\nJoin Mortgage Loan Officer Craig Buettner NMLS #1137585 and special guest Courtney Hoffman for a laid-back coffee chat for homebuyers of all experience levels.  Register today!
X-ALT-DESC;FMTTYPE=text/html:<p style="background:white"><span style="font-size:14px\;"><span style="font-family:arial\;"><span style="color: black\; background: white\;">Thinking about buying your first home but not sure where to start?<br />\nJoin Mortgage Loan Officer Craig Buettner NMLS #1137585 and special guest Courtney Hoffman for a laid-back coffee chat for homebuyers of all experience levels.&nbsp\; Register today!</span></span></span></p>\n
LOCATION:Nutman Coffee Shop 1333 State Rd 175 Suite B Hubertus\, WI
UID:e.2331.11151
SEQUENCE:3
DTSTAMP:20260420T052150Z
URL:https://www.germantownchamber.org/events/details/homebuyer-coffee-chat-shorewest-realtors-landmark-credit-union-11151
END:VEVENT

END:VCALENDAR
