BEGIN:VCALENDAR
VERSION:2.0
PRODID:-//ChamberMaster//Event Calendar 2.0//EN
METHOD:PUBLISH
X-PUBLISHED-TTL:P3D
REFRESH-INTERVAL:P3D
CALSCALE:GREGORIAN
BEGIN:VEVENT
DTSTART:20260124T150000Z
DTEND:20260124T180000Z
X-MICROSOFT-CDO-ALLDAYEVENT:FALSE
SUMMARY:Hot Cocoa Bar - Fleet Farm
DESCRIPTION:Join us for Fleet Farm's FREE Hot Cocoa Bar! Don't miss your chance to enjoy a nice hot cup of cocoa with tasty toppings and add-ins while you shop around the store!\n\nOur Hot Cocoa Bar will be at ALL Fleet Farm stores!
X-ALT-DESC;FMTTYPE=text/html:<div class="xdj266r x14z9mp xat24cr x1lziwak x1vvkbs" style="overflow-wrap: break-word\; margin-inline: 0px\; margin-bottom: 0px\; margin-top: 0px\; font-family: &quot\;Segoe UI Historic&quot\;\, &quot\;Segoe UI&quot\;\, Helvetica\, Arial\, sans-serif\; color: rgb(8\, 8\, 9)\; font-size: 15px\;">Join us&nbsp\;for Fleet Farm&#39\;s FREE Hot Cocoa Bar! Don&#39\;t miss your chance to enjoy a nice hot cup of cocoa with tasty toppings and add-ins while you shop around the store!</div>\n\n<div class="x14z9mp xat24cr x1lziwak x1vvkbs xtlvy1s" style="overflow-wrap: break-word\; margin-top: 0.5em\; margin-inline: 0px\; margin-bottom: 0px\; font-family: &quot\;Segoe UI Historic&quot\;\, &quot\;Segoe UI&quot\;\, Helvetica\, Arial\, sans-serif\; color: rgb(8\, 8\, 9)\; font-size: 15px\;">Our Hot Cocoa Bar will be at ALL Fleet Farm stores!</div>\n
LOCATION:Fleet Farm County Rd Q and Appleton Ave Germantown
UID:e.2331.11024
SEQUENCE:3
DTSTAMP:20260420T154554Z
URL:https://www.germantownchamber.org/events/details/hot-cocoa-bar-fleet-farm-11024
END:VEVENT

END:VCALENDAR
