BEGIN:VCALENDAR
VERSION:2.0
PRODID:-//ChamberMaster//Event Calendar 2.0//EN
METHOD:PUBLISH
X-PUBLISHED-TTL:P3D
REFRESH-INTERVAL:P3D
CALSCALE:GREGORIAN
BEGIN:VEVENT
DTSTART:20251110T190000Z
DTEND:20251110T210000Z
X-MICROSOFT-CDO-ALLDAYEVENT:FALSE
SUMMARY:Job Service Employment Assistance - Germantown Library
DESCRIPTION:A representative from Job Service is available most Monday afternoons from 1:00-3:00 to help people obtain\, maintain\, & improve employment. Services include resume building\, application assistance\, interview preparation\, and skills improvement.
X-ALT-DESC;FMTTYPE=text/html:<span style="color: rgb(117\, 117\, 117)\; font-family: Montserrat\, &quot\;Helvetica Neue&quot\;\, Arial\, sans-serif\; font-size: 21.98px\; text-align: center\;">A representative from Job Service is available most Monday afternoons from 1:00-3:00 to help people obtain\, maintain\, &amp\; improve employment. Services include resume building\, application assistance\, interview preparation\, and skills improvement.&nbsp\;</span>
LOCATION:Germantown Community Library N112W16957 Mequon Rd Germantown WI
UID:e.2331.9964
SEQUENCE:3
DTSTAMP:20260421T130130Z
URL:https://www.germantownchamber.org/events/details/job-service-employment-assistance-germantown-library-11-10-2025-9964
END:VEVENT

END:VCALENDAR
