BEGIN:VCALENDAR
VERSION:2.0
PRODID:-//ChamberMaster//Event Calendar 2.0//EN
METHOD:PUBLISH
X-PUBLISHED-TTL:P3D
REFRESH-INTERVAL:P3D
CALSCALE:GREGORIAN
BEGIN:VEVENT
DTSTART:20251118T150000Z
DTEND:20251118T160000Z
X-MICROSOFT-CDO-ALLDAYEVENT:FALSE
SUMMARY:Medicare Sessions - Senior Center
DESCRIPTION:Licensed agent will be at Senior Center to answer questions regarding Medicare and all the updates every Tuesday from October 21-December 2nd.
X-ALT-DESC;FMTTYPE=text/html:Licensed agent will be at Senior Center to answer questions regarding Medicare and all the updates every Tuesday from October 21-December 2nd.
LOCATION:Germantown Senior Center
UID:e.2331.9711
SEQUENCE:3
DTSTAMP:20260421T102613Z
URL:https://www.germantownchamber.org/events/details/medicare-sessions-senior-center-11-18-2025-9711
END:VEVENT

END:VCALENDAR
