BEGIN:VCALENDAR
VERSION:2.0
PRODID:-//ChamberMaster//Event Calendar 2.0//EN
METHOD:PUBLISH
X-PUBLISHED-TTL:P3D
REFRESH-INTERVAL:P3D
CALSCALE:GREGORIAN
BEGIN:VEVENT
DTSTART:20251121T160000Z
DTEND:20251121T163000Z
X-MICROSOFT-CDO-ALLDAYEVENT:FALSE
SUMMARY:Meet Your Neighbor Storytime - Germantown Library
DESCRIPTION:Meet your Neighbor Storytime\n\n\n\nAll the storytime fun you love with some very special guest readers!\n\n\n\nAugust - Officer Olson & Archie
X-ALT-DESC;FMTTYPE=text/html:Meet your Neighbor Storytime<br />\n<br />\nAll the storytime fun you love with some very special guest readers!<br />\n<br />\nAugust - Officer Olson &amp\; Archie
LOCATION:Germantown Community Library
UID:e.2331.9668
SEQUENCE:3
DTSTAMP:20260421T130304Z
URL:https://www.germantownchamber.org/events/details/meet-your-neighbor-storytime-germantown-library-11-21-2025-9668
END:VEVENT

END:VCALENDAR
