BEGIN:VCALENDAR
VERSION:2.0
PRODID:-//ChamberMaster//Event Calendar 2.0//EN
METHOD:PUBLISH
X-PUBLISHED-TTL:P3D
REFRESH-INTERVAL:P3D
CALSCALE:GREGORIAN
BEGIN:VEVENT
DTSTART;VALUE=DATE:20260109
DTEND;VALUE=DATE:20260111
TRANSP:TRANSPARENT
X-MICROSOFT-CDO-ALLDAYEVENT:TRUE
SUMMARY:Midwest Motorsports Racer's Expo - Washington County Fair Park
DESCRIPTION:
X-ALT-DESC;FMTTYPE=text/html:
LOCATION:Washington County Fair Park 3000 Hwy PV West Bend
UID:e.2331.10683
SEQUENCE:3
DTSTAMP:20260420T143109Z
URL:https://www.germantownchamber.org/events/details/midwest-motorsports-racer-s-expo-washington-county-fair-park-10683
END:VEVENT

END:VCALENDAR
