BEGIN:VCALENDAR
VERSION:2.0
PRODID:-//ChamberMaster//Event Calendar 2.0//EN
METHOD:PUBLISH
X-PUBLISHED-TTL:P3D
REFRESH-INTERVAL:P3D
CALSCALE:GREGORIAN
BEGIN:VEVENT
DTSTART:20201003T200000Z
DTEND:20201004T020000Z
X-MICROSOFT-CDO-ALLDAYEVENT:FALSE
SUMMARY:Oktoberfest
DESCRIPTION:Last Depot Beer Garden event of the Year!!\n\nOktoberfest\n\nSaturday October 3\, 2020\n\n3PM - 9PM\n\n\nOld Falls Village Historical Society\n- Corner of Cty Rd Q and Pilgrim Rd\n\nMusic\, Fun\, Kids Games\n\nFeatured Brewery - Titletown Brewery\n\nEntertainment - Sorry We're Open \n\nRain date Saturday\, October 10
X-ALT-DESC;FMTTYPE=text/html:<div style="font-family: inherit\;">\n<div dir="auto" style="font-family: inherit\;">\n<div class="ecm0bbzt hv4rvrfc ihqw7lf3 dati1w0a" data-ad-comet-preview="message" data-ad-preview="message" id="jsc_c_tr" style="padding: 4px 16px 16px\; font-family: inherit\;">\n<div class="j83agx80 cbu4d94t ew0dbk1b irj2b8pg" style="flex-direction: column\; margin-bottom: -5px\; margin-top: -5px\; display: flex\; font-family: inherit\;">\n<div class="qzhwtbm6 knvmm38d" style="margin-top: 5px\; margin-bottom: 5px\; font-family: inherit\;">\n<div class="kvgmc6g5 cxmmr5t8 oygrvhab hcukyx3x c1et5uql ii04i59q" style="overflow-wrap: break-word\; margin: 0px\; white-space: pre-wrap\; font-family: inherit\;">\n<div dir="auto" style="font-family: inherit\;"><span class="d2edcug0 hpfvmrgz qv66sw1b c1et5uql rrkovp55 a8c37x1j keod5gw0 nxhoafnm aigsh9s9 d3f4x2em fe6kdd0r mau55g9w c8b282yb iv3no6db jq4qci2q a3bd9o3v knj5qynh oo9gr5id hzawbc8m" dir="auto" style="line-height: 1.3333\; display: block\; overflow-wrap: break-word\; max-width: 100%\; min-width: 0px\; font-size: 0.9375rem\; color: var(--primary-text)\; word-break: break-word\; font-family: inherit\;">Last Depot Beer Garden event of the Year!!</span></div>\n\n<div dir="auto" style="font-family: inherit\;"><span class="d2edcug0 hpfvmrgz qv66sw1b c1et5uql rrkovp55 a8c37x1j keod5gw0 nxhoafnm aigsh9s9 d3f4x2em fe6kdd0r mau55g9w c8b282yb iv3no6db jq4qci2q a3bd9o3v knj5qynh oo9gr5id hzawbc8m" dir="auto" style="line-height: 1.3333\; display: block\; overflow-wrap: break-word\; max-width: 100%\; min-width: 0px\; font-size: 0.9375rem\; color: var(--primary-text)\; word-break: break-word\; font-family: inherit\;">Oktoberfest</span></div>\n\n<div dir="auto" style="font-family: inherit\;"><span class="d2edcug0 hpfvmrgz qv66sw1b c1et5uql rrkovp55 a8c37x1j keod5gw0 nxhoafnm aigsh9s9 d3f4x2em fe6kdd0r mau55g9w c8b282yb iv3no6db jq4qci2q a3bd9o3v knj5qynh oo9gr5id hzawbc8m" dir="auto" style="line-height: 1.3333\; display: block\; overflow-wrap: break-word\; max-width: 100%\; min-width: 0px\; font-size: 0.9375rem\; color: var(--primary-text)\; word-break: break-word\; font-family: inherit\;">Saturday October 3\, 2020</span></div>\n\n<div dir="auto" style="font-family: inherit\;"><span class="d2edcug0 hpfvmrgz qv66sw1b c1et5uql rrkovp55 a8c37x1j keod5gw0 nxhoafnm aigsh9s9 d3f4x2em fe6kdd0r mau55g9w c8b282yb iv3no6db jq4qci2q a3bd9o3v knj5qynh oo9gr5id hzawbc8m" dir="auto" style="line-height: 1.3333\; display: block\; overflow-wrap: break-word\; max-width: 100%\; min-width: 0px\; font-size: 0.9375rem\; color: var(--primary-text)\; word-break: break-word\; font-family: inherit\;">3PM - 9PM</span></div>\n\n<div dir="auto" style="font-family: inherit\;">\n<div class="nc684nl6" style="display: inline\; font-family: inherit\;"><span class="d2edcug0 hpfvmrgz qv66sw1b c1et5uql rrkovp55 a8c37x1j keod5gw0 nxhoafnm aigsh9s9 d3f4x2em fe6kdd0r mau55g9w c8b282yb iv3no6db jq4qci2q a3bd9o3v knj5qynh oo9gr5id hzawbc8m" dir="auto" style="line-height: 1.3333\; display: block\; overflow-wrap: break-word\; max-width: 100%\; min-width: 0px\; font-size: 0.9375rem\; color: var(--primary-text)\; word-break: break-word\; font-family: inherit\;"><span style="font-family: inherit\;"><a class="oajrlxb2 g5ia77u1 qu0x051f esr5mh6w e9989ue4 r7d6kgcz rq0escxv nhd2j8a9 nc684nl6 p7hjln8o kvgmc6g5 cxmmr5t8 oygrvhab hcukyx3x jb3vyjys rz4wbd8a qt6c0cv9 a8nywdso i1ao9s8h esuyzwwr f1sip0of lzcic4wl oo9gr5id gpro0wi8 lrazzd5p" href="https://www.facebook.com/OldFallsVillage/?__cft__[0]=AZWyn9DF3ZatqbzLzxR51Km-EL_L_HsRGZalL5eMQj_8xt5EG2UH2JmMP7Yn0hhGX-xjAZ-dk7peS3ui3YnQm2QJBGmBBxi_BF40--OyIxgo4NvaRQdUgh3ep4h0EvAKULZeyjD7MrkK3eeLO2tJyVTKQcGtEFAgKkobivEOR29Td4jCVuJlsceVYVawbaW4X74&amp\;__tn__=kK-R" role="link" style="color: var(--primary-text)\; cursor: pointer\; text-decoration-line: none\; outline: none\; list-style: none\; border-width: 0px\; border-style: initial\; border-color: initial\; padding: 0px\; margin: 0px\; touch-action: manipulation\; background-color: transparent\; text-align: inherit\; font-weight: 600\; display: inline\; -webkit-tap-highlight-color: transparent\; box-sizing: border-box\; font-family: inherit\;" tabindex="0">Old Falls Village Historical Society</a></span></span></div>\n<span class="d2edcug0 hpfvmrgz qv66sw1b c1et5uql rrkovp55 a8c37x1j keod5gw0 nxhoafnm aigsh9s9 d3f4x2em fe6kdd0r mau55g9w c8b282yb iv3no6db jq4qci2q a3bd9o3v knj5qynh oo9gr5id hzawbc8m" dir="auto" style="line-height: 1.3333\; display: block\; overflow-wrap: break-word\; max-width: 100%\; min-width: 0px\; font-size: 0.9375rem\; color: var(--primary-text)\; word-break: break-word\; font-family: inherit\;">- Corner of Cty Rd Q and Pilgrim Rd</span></div>\n\n<div dir="auto" style="font-family: inherit\;"><span class="d2edcug0 hpfvmrgz qv66sw1b c1et5uql rrkovp55 a8c37x1j keod5gw0 nxhoafnm aigsh9s9 d3f4x2em fe6kdd0r mau55g9w c8b282yb iv3no6db jq4qci2q a3bd9o3v knj5qynh oo9gr5id hzawbc8m" dir="auto" style="line-height: 1.3333\; display: block\; overflow-wrap: break-word\; max-width: 100%\; min-width: 0px\; font-size: 0.9375rem\; color: var(--primary-text)\; word-break: break-word\; font-family: inherit\;">Music\, Fun\, Kids Games</span></div>\n\n<div dir="auto" style="font-family: inherit\;"><span class="d2edcug0 hpfvmrgz qv66sw1b c1et5uql rrkovp55 a8c37x1j keod5gw0 nxhoafnm aigsh9s9 d3f4x2em fe6kdd0r mau55g9w c8b282yb iv3no6db jq4qci2q a3bd9o3v knj5qynh oo9gr5id hzawbc8m" dir="auto" style="line-height: 1.3333\; display: block\; overflow-wrap: break-word\; max-width: 100%\; min-width: 0px\; font-size: 0.9375rem\; color: var(--primary-text)\; word-break: break-word\; font-family: inherit\;">Featured Brewery - Titletown Brewery</span></div>\n\n<div dir="auto" style="font-family: inherit\;"><span class="d2edcug0 hpfvmrgz qv66sw1b c1et5uql rrkovp55 a8c37x1j keod5gw0 nxhoafnm aigsh9s9 d3f4x2em fe6kdd0r mau55g9w c8b282yb iv3no6db jq4qci2q a3bd9o3v knj5qynh oo9gr5id hzawbc8m" dir="auto" style="line-height: 1.3333\; display: block\; overflow-wrap: break-word\; max-width: 100%\; min-width: 0px\; font-size: 0.9375rem\; color: var(--primary-text)\; word-break: break-word\; font-family: inherit\;">Entertainment - Sorry We&#39\;re Open </span></div>\n\n<div dir="auto" style="font-family: inherit\;"><span class="d2edcug0 hpfvmrgz qv66sw1b c1et5uql rrkovp55 a8c37x1j keod5gw0 nxhoafnm aigsh9s9 d3f4x2em fe6kdd0r mau55g9w c8b282yb iv3no6db jq4qci2q a3bd9o3v knj5qynh oo9gr5id hzawbc8m" dir="auto" style="line-height: 1.3333\; display: block\; overflow-wrap: break-word\; max-width: 100%\; min-width: 0px\; font-size: 0.9375rem\; color: var(--primary-text)\; word-break: break-word\; font-family: inherit\;">Rain date Saturday\, October 10</span></div>\n</div>\n</div>\n</div>\n</div>\n</div>\n\n<div class="l9j0dhe7" id="jsc_c_ts" style="position: relative\; font-family: inherit\;">\n<div class="l9j0dhe7" style="position: relative\; font-family: inherit\;">\n<div style="font-family: inherit\;">\n<div class="linmgsc8 opwvks06 i09qtzwb n7fi1qx3 hzruof5a pmk7jnqg j9ispegn kr520xx4" style="border-bottom: 1px solid var(--media-inner-border)\; border-top: 1px solid var(--media-inner-border)\; pointer-events: none\; bottom: 0px\; left: 0px\; top: 0px\; right: 0px\; position: absolute\; font-family: inherit\;"><br />\n&nbsp\;</div>\n</div>\n</div>\n</div>\n</div>\n
LOCATION:
UID:e.2331.3956
SEQUENCE:3
DTSTAMP:20260425T162204Z
URL:https://www.germantownchamber.org/events/details/oktoberfest-3956
END:VEVENT

END:VCALENDAR
