BEGIN:VCALENDAR
VERSION:2.0
PRODID:-//ChamberMaster//Event Calendar 2.0//EN
METHOD:PUBLISH
X-PUBLISHED-TTL:P3D
REFRESH-INTERVAL:P3D
CALSCALE:GREGORIAN
BEGIN:VEVENT
DTSTART;VALUE=DATE:20260926
DTEND;VALUE=DATE:20260928
TRANSP:TRANSPARENT
X-MICROSOFT-CDO-ALLDAYEVENT:TRUE
SUMMARY:Oktoberfest - Germantown Historical Society
DESCRIPTION:Germantown Hunsrucker Oktoberfest!\n\nSaturday\, Sept 26\, 12PM - 11PM\n\nSunday\, Sept 27\, 12PM - 7PM\n\n \n\nFREE!\n\nFESTIVAL ADMISSION & PARKING!\n\nGerman Entertainment - Music & Dancing! Family Fun!
X-ALT-DESC;FMTTYPE=text/html:<p class="font_8" style="margin: 0px\; padding: 0px\; border: 0px\; outline: 0px\; vertical-align: baseline\; background: transparent\; pointer-events: auto\; font-size: 18px\; line-height: normal\; color: rgb(var(--color_14))\; text-align: center\;"><span style="font-size:14px\;"><span style="margin: 0px\; padding: 0px\; border: 0px\; outline: 0px\; vertical-align: baseline\; background: transparent\; font-weight: bold\;"><span style="margin: 0px\; padding: 0px\; border: 0px\; outline: 0px\; vertical-align: baseline\; background: transparent\; color: rgb(0\, 0\, 0)\;"><span style="margin: 0px\; padding: 0px\; border: 0px\; outline: 0px\; vertical-align: baseline\; background: transparent\;">Germantown Hunsrucker Oktoberfest!</span><br />\n<span style="margin: 0px\; padding: 0px\; border: 0px\; outline: 0px\; vertical-align: baseline\; background: transparent\;">Saturday\, Sept 26\, 12PM - 11PM<br />\nSunday\, Sept 27\, 12PM - 7PM</span></span></span></span><br />\n<span style="font-size:14px\;"><span style="margin: 0px\; padding: 0px\; border: 0px\; outline: 0px\; vertical-align: baseline\; background: transparent\; font-weight: bold\;"><span style="margin: 0px\; padding: 0px\; border: 0px\; outline: 0px\; vertical-align: baseline\; background: transparent\; color: rgb(0\, 0\, 0)\;">&#8203\;</span></span></span></p>\n\n<p class="font_8" style="margin: 0px\; padding: 0px\; border: 0px\; outline: 0px\; vertical-align: baseline\; background: transparent\; pointer-events: auto\; font-size: 18px\; line-height: normal\; color: rgb(var(--color_14))\; text-align: center\;"><span style="font-size:14px\;"><span style="margin: 0px\; padding: 0px\; border: 0px\; outline: 0px\; vertical-align: baseline\; background: transparent\; font-weight: bold\;"><span style="margin: 0px\; padding: 0px\; border: 0px\; outline: 0px\; vertical-align: baseline\; background: transparent\; color: rgb(0\, 0\, 0)\;">FREE!<br />\nFESTIVAL ADMISSION &amp\; PARKING!<br />\nGerman Entertainment - Music &amp\; Dancing! Family Fun!</span></span></span><span style="font-size:14px\;"><span style="margin: 0px\; padding: 0px\; border: 0px\; outline: 0px\; vertical-align: baseline\; background: transparent\; font-weight: bold\;"><span style="margin: 0px\; padding: 0px\; border: 0px\; outline: 0px\; vertical-align: baseline\; background: transparent\; color: rgb(0\, 0\, 0)\;">&#8203\;</span></span></span><span style="font-size:14px\;"><span style="margin: 0px\; padding: 0px\; border: 0px\; outline: 0px\; vertical-align: baseline\; background: transparent\; font-weight: bold\;"><span style="margin: 0px\; padding: 0px\; border: 0px\; outline: 0px\; vertical-align: baseline\; background: transparent\; color: rgb(0\, 0\, 0)\;">&#8203\;</span></span></span><span style="margin: 0px\; padding: 0px\; border: 0px\; outline: 0px\; vertical-align: baseline\; background: transparent\; font-weight: bold\;"><span style="margin: 0px\; padding: 0px\; border: 0px\; outline: 0px\; vertical-align: baseline\; background: transparent\; color: rgb(0\, 0\, 0)\;">&#8203\;</span></span></p>\n
LOCATION:Held at Dheinsville Historic Park in Germantown\, Wisconsin Holy Hill Rd\, Hwy 145/Fond du Lac Ave & Maple Rd DIRECTIONS: Exit on Hwy 167 West. Turn EAST (Holy Hill Road) off Hwy 41/45. Museum 2 miles.
UID:e.2331.11202
SEQUENCE:3
DTSTAMP:20260421T224658Z
URL:https://www.germantownchamber.org/events/details/oktoberfest-germantown-historical-society-11202
END:VEVENT

END:VCALENDAR
