BEGIN:VCALENDAR
VERSION:2.0
PRODID:-//ChamberMaster//Event Calendar 2.0//EN
METHOD:PUBLISH
X-PUBLISHED-TTL:P3D
REFRESH-INTERVAL:P3D
CALSCALE:GREGORIAN
BEGIN:VEVENT
DTSTART:20251109T160000Z
DTEND:20251109T200000Z
X-MICROSOFT-CDO-ALLDAYEVENT:FALSE
SUMMARY:Open House & Pictures with Santa - Happy Hounds
DESCRIPTION:Come join Happy Hounds for their Open House & Pictures with Santa\n\n- Meet staff\, see facility\n\n- Subs at Noon\n\n- Pictures with santa\n\n-Dog Caricature drawings\n\n- Sniffer and nosework games\n\n- GTPD K9 coloring sheets/dogs/apparel\n\n- Door Prizes\n\n- Vendors\n\n- K9 Archie and K9 Demo at 11:30AM
X-ALT-DESC;FMTTYPE=text/html:Come join Happy Hounds for their Open House &amp\; Pictures with Santa<br />\n- Meet staff\, see facility<br />\n- Subs at Noon<br />\n- Pictures with santa<br />\n-Dog Caricature drawings<br />\n- Sniffer and nosework games<br />\n- GTPD K9 coloring sheets/dogs/apparel<br />\n- Door Prizes<br />\n- Vendors<br />\n- K9 Archie and K9 Demo at 11:30AM
LOCATION:Happy hounds N116W18395 Morse Dr Germantown
UID:e.2331.10304
SEQUENCE:3
DTSTAMP:20260421T130228Z
URL:https://www.germantownchamber.org/events/details/open-house-pictures-with-santa-happy-hounds-10304
END:VEVENT

END:VCALENDAR
