BEGIN:VCALENDAR
VERSION:2.0
PRODID:-//ChamberMaster//Event Calendar 2.0//EN
METHOD:PUBLISH
X-PUBLISHED-TTL:P3D
REFRESH-INTERVAL:P3D
CALSCALE:GREGORIAN
BEGIN:VEVENT
DTSTART;VALUE=DATE:20251117
DTEND;VALUE=DATE:20251118
TRANSP:TRANSPARENT
X-MICROSOFT-CDO-ALLDAYEVENT:TRUE
SUMMARY:Our Kids' Closet Winter Outerwear Drive
DESCRIPTION:As Winter approaches\, we are in need of gently used or new kid sized\n\n\n\nWinter Jackets\n\nSnow Pants\n\nWater Resistant Gloves\n\nLarger Kid SIzes
X-ALT-DESC;FMTTYPE=text/html:As Winter approaches\, we are in need of gently used or new kid sized<br />\n<br />\nWinter Jackets<br />\nSnow Pants<br />\nWater Resistant Gloves<br />\nLarger Kid SIzes
LOCATION:Drop Boxes Germantown Area Chamber of Commerce N112W16760 Mequon Rd Germantown
UID:e.2331.10332
SEQUENCE:3
DTSTAMP:20260423T094814Z
URL:https://www.germantownchamber.org/events/details/our-kids-closet-winter-outerwear-drive-10332
END:VEVENT

END:VCALENDAR
