BEGIN:VCALENDAR
VERSION:2.0
PRODID:-//ChamberMaster//Event Calendar 2.0//EN
METHOD:PUBLISH
X-PUBLISHED-TTL:P3D
REFRESH-INTERVAL:P3D
CALSCALE:GREGORIAN
BEGIN:VEVENT
DTSTART;VALUE=DATE:20260219
DTEND;VALUE=DATE:20260220
TRANSP:TRANSPARENT
X-MICROSOFT-CDO-ALLDAYEVENT:TRUE
SUMMARY:Park Work Day - Earth Day Celebration - Friends of Old Falls Village Park
DESCRIPTION:Old Falls Village Park Work Day - Earth Day Celebration\n\n \n\nHelp us prepare the park for the busy summer season during our Earth Day Cleanup.\n\nVolunteers are invited to lend a hand with grounds cleanup and light projects. It's a\n\ngreat way to give back and enjoy the park alongside fellow supporters.  Email us to let us know you are joining Old Falls Work Day at events@oldfallsvillagepark.com\n\n\n\nHelp us get the park ready for the Event Season\n\nGet your hands dirty for a good cause!\n\nWe would love to have you join us at the park to help celebrate Earth Day and tackle some invasive plants\, brush pick up\, trash pick up\, trimming trees\, cutting smaller dead trees\, prepping garden beds and more on April 26th from 9 AM to Noon.\n\n	All Ages welcome\n	Nature vibes included\n	Trash bags and gloves provided\, but if you have any personal work gloves\, tools and clippers\, please bring them along\n	Good deeds guaranteed\n\nWhere:  Old Falls Village Park\, N96W15791 County Line Rd\, Menomonee Falls WI 53051\n\nWhen:  9 AM to Noon\n\nPartners:  Milwaukee River Keepers River Clean up Day\n\nRegister by emailing:  events@oldfallsvillagepark.com\n\nMeet at the Public House at Old Falls Village Park
X-ALT-DESC;FMTTYPE=text/html:Old Falls Village Park Work Day - Earth Day Celebration<br />\n&nbsp\;<br />\nHelp us prepare the park for the busy summer season during our Earth Day Cleanup.<br />\nVolunteers are invited to lend a hand with grounds cleanup and light projects. It&rsquo\;s a<br />\ngreat way to give back and enjoy the park alongside fellow supporters.&nbsp\; Email us to let us know you are joining Old Falls Work Day at <a href="mailto:events@oldfallsvillagepark.com">events@oldfallsvillagepark.com</a><br />\n<br />\nHelp us get the park ready for the Event Season<br />\nGet your hands dirty for a good cause!<br />\nWe would love to have you join us at the park to help celebrate Earth Day and tackle some invasive plants\, brush pick up\, trash pick up\, trimming trees\, cutting smaller dead trees\, prepping garden beds and more on April 26<sup>th</sup> from 9 AM to Noon.\n<ul>\n	<li>All Ages welcome</li>\n	<li>Nature vibes included</li>\n	<li>Trash bags and gloves provided\, but if you have any personal work gloves\, tools and clippers\, please bring them along</li>\n	<li>Good deeds guaranteed</li>\n</ul>\nWhere:&nbsp\; Old Falls Village Park\, N96W15791 County Line Rd\, Menomonee Falls WI 53051<br />\nWhen: &nbsp\;9 AM to Noon<br />\nPartners:&nbsp\; Milwaukee River Keepers River Clean up Day<br />\nRegister by emailing:&nbsp\; <a href="mailto:events@oldfallsvillagepark.com">events@oldfallsvillagepark.com</a><br />\nMeet at the Public House at Old Falls Village Park
LOCATION:Old Falls Village Park N96W15791 County Line Rd Menomonee Falls WI 53051
UID:e.2331.11152
SEQUENCE:3
DTSTAMP:20260420T040025Z
URL:https://www.germantownchamber.org/events/details/park-work-day-earth-day-celebration-friends-of-old-falls-village-park-11152
END:VEVENT

END:VCALENDAR
