BEGIN:VCALENDAR
VERSION:2.0
PRODID:-//ChamberMaster//Event Calendar 2.0//EN
METHOD:PUBLISH
X-PUBLISHED-TTL:P3D
REFRESH-INTERVAL:P3D
CALSCALE:GREGORIAN
BEGIN:VEVENT
DTSTART:20260228T190000Z
DTEND:20260228T210000Z
X-MICROSOFT-CDO-ALLDAYEVENT:FALSE
SUMMARY:Pokemon Gotta Catch 'Em All - Germantown Library
DESCRIPTION:Celebrating 30 years of Pokemon
X-ALT-DESC;FMTTYPE=text/html:Celebrating 30 years of Pokemon&nbsp\;&nbsp\;&nbsp\;&nbsp\;&nbsp\;&nbsp\;&nbsp\;&nbsp\;
LOCATION:Germantown Community Library
UID:e.2331.11155
SEQUENCE:3
DTSTAMP:20260420T051842Z
URL:https://www.germantownchamber.org/events/details/pokemon-gotta-catch-em-all-germantown-library-11155
END:VEVENT

END:VCALENDAR
