BEGIN:VCALENDAR
VERSION:2.0
PRODID:-//ChamberMaster//Event Calendar 2.0//EN
METHOD:PUBLISH
X-PUBLISHED-TTL:P3D
REFRESH-INTERVAL:P3D
CALSCALE:GREGORIAN
BEGIN:VEVENT
DTSTART:20260125T143000Z
DTEND:20260125T200000Z
X-MICROSOFT-CDO-ALLDAYEVENT:FALSE
SUMMARY:R/C Auction & Swap Shop - Washington County Fair Park
DESCRIPTION:Food\, Beverages\, Raffles\, Auction throughout the day
X-ALT-DESC;FMTTYPE=text/html:Food\, Beverages\, Raffles\, Auction throughout the day
LOCATION:Washington County Fair Park 3000 Pleasant Valley Rd West Bend\, WI
UID:e.2331.10684
SEQUENCE:3
DTSTAMP:20260420T154844Z
URL:https://www.germantownchamber.org/events/details/r-c-auction-swap-shop-washington-county-fair-park-10684
END:VEVENT

END:VCALENDAR
