BEGIN:VCALENDAR
VERSION:2.0
PRODID:-//ChamberMaster//Event Calendar 2.0//EN
METHOD:PUBLISH
X-PUBLISHED-TTL:P3D
REFRESH-INTERVAL:P3D
CALSCALE:GREGORIAN
BEGIN:VEVENT
DTSTART:20260315T020000Z
DTEND:20260315T043000Z
X-MICROSOFT-CDO-ALLDAYEVENT:FALSE
SUMMARY:Rebel Grace - BuBs Irish Pub
DESCRIPTION:Rebel Grace sets the standard for contemporary country music in Wisconsin. Since their formation in 2010\, they've built an extensive following around the state one electrifying performance at a time. For the members of Rebel Grace all of whom are seasoned veterans of the Milwaukee music scene it's about the music\, not cheap gimmickry or special effects. Whether it's the State Fair\, Summerfest\, or a Firemen's Picnic in a no-name town on a rural county highway\, Rebel Grace always delivers the goods\, bringing you the best by the biggest stars in country music today.
X-ALT-DESC;FMTTYPE=text/html:<span style="font-family:arial\;"><span style="color: rgb(255\, 255\, 255)\; font-size: 16px\; background-color: rgba(0\, 0\, 0\, 0.5)\;">Rebel Grace sets the standard for contemporary country music in Wisconsin. Since their formation in 2010\, they&rsquo\;ve built an extensive following around the state one electrifying performance at a time. For the members of Rebel Grace&ndash\;all of whom are seasoned veterans of the Milwaukee music scene&ndash\;it&rsquo\;s about the music\, not cheap gimmickry or special effects. Whether it&rsquo\;s the State Fair\, Summerfest\, or a Firemen&rsquo\;s Picnic in a no-name town on a rural county highway\, Rebel Grace always delivers the goods\, bringing you the best by the biggest stars in country music today.</span></span>
LOCATION:BuBs Irish Pub N116W16218 Main St
UID:e.2331.10682
SEQUENCE:3
DTSTAMP:20260422T130950Z
URL:https://www.germantownchamber.org/events/details/rebel-grace-bubs-irish-pub-10682
END:VEVENT

END:VCALENDAR
