BEGIN:VCALENDAR
VERSION:2.0
PRODID:-//ChamberMaster//Event Calendar 2.0//EN
METHOD:PUBLISH
X-PUBLISHED-TTL:P3D
REFRESH-INTERVAL:P3D
CALSCALE:GREGORIAN
BEGIN:VEVENT
DTSTART;VALUE=DATE:20200914
DTEND;VALUE=DATE:20200915
TRANSP:TRANSPARENT
X-MICROSOFT-CDO-ALLDAYEVENT:TRUE
SUMMARY:RENT SMART Free Online Classes
DESCRIPTION:RENT SMART\n\nTaught by Extension Educators\n\nHelping to make renting a great experience for you!\n\n\n\nRent Smart focuses on the knowledge and skills essential for a successful renting experience. It challenges participants to know and understand their rights and responsibilities as a tenant\, as well as know and understand the rights and responsibilities of their landlord. Emphasis is on forming a strong partnership between the tenant and landlord.\n\n \n\n	\n		\n			\n			\n				\n					\n						\n						\n							\n								\n									What you will learn in this free\, online class from Extension Educators:\n									\n										Planning for and meeting monthly expenses\n										Tips for finding and maintaining affordable housing\n										How to complete an application and why landlords screen applicants\n										Strategies for building positive relationships with landlords and neighbors\n										Responsibilities and rights of landlords and tenants\n										For more information\, please contact rentsmartwi@office365.wisc.edu or call 262-741-4951\n									\n									***Note: These online classes replace the cancelled in-person Rent Smart programs for September and November in Washington County. \n								\n							\n						\n						\n					\n				\n			\n			\n		\n	\n\n \n\nParticipants must complete all 6 modules to earn the Rent Smart certificate.
X-ALT-DESC;FMTTYPE=text/html:<span style="font-size:16px\;"><strong>RENT SMART</strong><br />\n<strong>Taught by Extension Educators</strong><br />\nHelping to make renting a great experience for you!<br />\n<br />\nRent Smart focuses on the knowledge and skills essential for a successful renting experience. It challenges participants to know and understand their rights and responsibilities as a tenant\, as well as know and understand the rights and responsibilities of their landlord. Emphasis is on forming a strong partnership between the tenant and landlord.</span><br />\n&nbsp\;\n<table border="0" cellpadding="0" cellspacing="0" style="width:100.0%\;border-collapse:collapse\;" width="100%">\n	<tbody>\n		<tr>\n			<td style="padding:6.75pt 0in 0in 0in\;vertical-align:top\;">\n			<table align="left" border="0" cellpadding="0" cellspacing="0" style="width:100.0%\;border-collapse:collapse\;margin-left:-2.25pt\;margin-right:-2.25pt\;" width="100%">\n				<tbody>\n					<tr>\n						<td style="width:600px\;padding:0in 0in 0in 0in\;vertical-align:top\;">\n						<table align="left" border="0" cellpadding="0" cellspacing="0" style="width:100.0%\;border-collapse:collapse\;" width="100%">\n							<tbody>\n								<tr>\n									<td style="padding:0in 13.5pt 6.75pt 13.5pt\;vertical-align:top\;"><strong><span style="color:#222222\;"><span style="font-family:helvetica\,sans-serif\;"><span style="font-size:12.0pt\;">What you will learn in this free\, online class from Extension Educators:</span></span></span></strong>\n									<ul>\n										<li style="color:#222222\;line-height:150%\;-ms-text-size-adjust:100%\;-webkit-text-size-adjust:100%\;"><span style="font-family:helvetica\,sans-serif\;"><span style="font-size:12.0pt\;">Planning for and meeting monthly expenses</span></span></li>\n										<li style="color:#222222\;line-height:150%\;-ms-text-size-adjust:100%\;-webkit-text-size-adjust:100%\;"><span style="font-family:helvetica\,sans-serif\;"><span style="font-size:12.0pt\;">Tips for finding and maintaining affordable housing</span></span></li>\n										<li style="color:#222222\;line-height:150%\;-ms-text-size-adjust:100%\;-webkit-text-size-adjust:100%\;"><span style="font-family:helvetica\,sans-serif\;"><span style="font-size:12.0pt\;">How to complete an application and why landlords screen applicants</span></span></li>\n										<li style="color:#222222\;line-height:150%\;-ms-text-size-adjust:100%\;-webkit-text-size-adjust:100%\;"><span style="font-family:helvetica\,sans-serif\;"><span style="font-size:12.0pt\;">Strategies for building positive relationships with landlords and neighbors</span></span></li>\n										<li style="color:#222222\;line-height:150%\;-ms-text-size-adjust:100%\;-webkit-text-size-adjust:100%\;"><span style="font-family:helvetica\,sans-serif\;"><span style="font-size:12.0pt\;">Responsibilities and rights of landlords and tenants</span></span></li>\n										<li style="color:#222222\;line-height:150%\;-ms-text-size-adjust:100%\;-webkit-text-size-adjust:100%\;"><span style="font-family:helvetica\,sans-serif\;"><span style="font-size:12.0pt\;">For more information\, please contact <a href="mailto:rentsmartwi@office365.wisc.edu" style="-ms-text-size-adjust:100%\;-webkit-text-size-adjust:100%\;" target="_blank"><span style="color:#007C89\;">rentsmartwi@office365.wisc.edu</span></a> or call 262-741-4951</span></span></li>\n									</ul>\n									<em><span style="color:#222222\;"><span style="font-family:helvetica\,sans-serif\;"><span style="font-size:12.0pt\;">***Note: These online classes replace the cancelled in-person Rent Smart programs for September and November in Washington County. </span></span></span></em></td>\n								</tr>\n							</tbody>\n						</table>\n						</td>\n					</tr>\n				</tbody>\n			</table>\n			</td>\n		</tr>\n	</tbody>\n</table>\n&nbsp\;<br />\n<span style="font-size:16px\;"><em><strong>Participants must complete all 6 modules to earn the Rent Smart certificate.</strong></em></span>
LOCATION:Online
UID:e.2331.3940
SEQUENCE:3
DTSTAMP:20260423T164444Z
URL:https://www.germantownchamber.org/events/details/rent-smart-free-online-classes-3940
END:VEVENT

END:VCALENDAR
