BEGIN:VCALENDAR
VERSION:2.0
PRODID:-//ChamberMaster//Event Calendar 2.0//EN
METHOD:PUBLISH
X-PUBLISHED-TTL:P3D
REFRESH-INTERVAL:P3D
CALSCALE:GREGORIAN
BEGIN:VEVENT
DTSTART:20260110T150000Z
DTEND:20260110T180000Z
X-MICROSOFT-CDO-ALLDAYEVENT:FALSE
SUMMARY:Snowman Snack & Craft - Fleet Farm
DESCRIPTION:Join us to make a snowman craft and enjoy a snack mix!
X-ALT-DESC;FMTTYPE=text/html:<div class="xdj266r x14z9mp xat24cr x1lziwak x1vvkbs" style="overflow-wrap: break-word\; margin-inline: 0px\; margin-bottom: 0px\; margin-top: 0px\; font-family: &quot\;Segoe UI Historic&quot\;\, &quot\;Segoe UI&quot\;\, Helvetica\, Arial\, sans-serif\; color: rgb(8\, 8\, 9)\; font-size: 15px\;">Join us to make a snowman craft and enjoy a snack mix!</div>\n
LOCATION:Fleet Farm County Rd Q and Appleton Ave Germantown
UID:e.2331.11025
SEQUENCE:3
DTSTAMP:20260420T143828Z
URL:https://www.germantownchamber.org/events/details/snowman-snack-craft-fleet-farm-11025
END:VEVENT

END:VCALENDAR
