BEGIN:VCALENDAR
VERSION:2.0
PRODID:-//ChamberMaster//Event Calendar 2.0//EN
METHOD:PUBLISH
X-PUBLISHED-TTL:P3D
REFRESH-INTERVAL:P3D
CALSCALE:GREGORIAN
BEGIN:VEVENT
DTSTART:20260308T023000Z
DTEND:20260308T053000Z
X-MICROSOFT-CDO-ALLDAYEVENT:FALSE
SUMMARY:Star Six Nine - BuBs Irish Pub
DESCRIPTION:Looking for a good time and some great music? Then you've found the right band! Star Six Nine combines five individuals whose aspirations include one thing: great music and a fun show (  well 2 things ). We are of the opinion that the stage is the only barrier between the band and you  otherwise\, our show is like partying with all of your friends. Rock? Pop? Country? You never know what you might hear next. When you're ready to party  come see us!
X-ALT-DESC;FMTTYPE=text/html:<span style="color: rgb(255\, 255\, 255)\; font-family: Montserrat\, sans-serif\; font-size: 16px\; background-color: rgba(0\, 0\, 0\, 0.5)\;">Looking for a good time and some great music? Then you&rsquo\;ve found the right band! Star Six Nine combines five individuals whose aspirations include one thing: great music and a fun show ( &hellip\;well 2 things ). We are of the opinion that the stage is the only barrier between the band and you&hellip\;&hellip\;otherwise\, our show is like partying with all of your friends. Rock? Pop? Country? You never know what you might hear next. When you&rsquo\;re ready to party&hellip\; come see us!</span>
LOCATION:BuBs Irish Pub N116W16218 Main St\, Germantown\, WI
UID:e.2331.11158
SEQUENCE:3
DTSTAMP:20260422T131236Z
URL:https://www.germantownchamber.org/events/details/star-six-nine-bubs-irish-pub-11158
END:VEVENT

END:VCALENDAR
