BEGIN:VCALENDAR
VERSION:2.0
PRODID:-//ChamberMaster//Event Calendar 2.0//EN
METHOD:PUBLISH
X-PUBLISHED-TTL:P3D
REFRESH-INTERVAL:P3D
CALSCALE:GREGORIAN
BEGIN:VEVENT
DTSTART:20260208T030000Z
DTEND:20260208T055500Z
X-MICROSOFT-CDO-ALLDAYEVENT:FALSE
SUMMARY:Stetsin & Lace - BuB's Irish Pub
DESCRIPTION:Wisconsin's Own Country Record Artist Stetsin & Lace!\n\nThe most ultimate country party band! From boot stomping classics to the hottest new country hits\, Stetsin & Lace will never leave you disappointed! We'll take you back to the bonfires\, the back-woods\, tan legs and daisy dukes. This band understands it's fans love of music\, God and this country! So relax\, unwind\, escape\, enjoy\, dance\, celebrate\, and live! Take a sip of your beer\, relax and say ahh! Let us do the rest! See ya'll soon!
X-ALT-DESC;FMTTYPE=text/html:Wisconsin&#39\;s Own Country Record Artist Stetsin &amp\; Lace!<br />\nThe most ultimate country party band! From boot stomping classics to the hottest new country hits\, Stetsin &amp\; Lace will never leave you disappointed! We&#39\;ll take you back to the bonfires\, the back-woods\, tan legs and daisy dukes. This band understands it&#39\;s fans love of music\, God and this country! So relax\, unwind\, escape\, enjoy\, dance\, celebrate\, and live! Take a sip of your beer\, relax and say ahh! Let us do the rest! See ya&#39\;ll soon!
LOCATION:BuB's Irish Pub N116W16218 N Main St\, Germantown\, WI
UID:e.2331.10680
SEQUENCE:3
DTSTAMP:20260420T035132Z
URL:https://www.germantownchamber.org/events/details/stetsin-lace-bub-s-irish-pub-10680
END:VEVENT

END:VCALENDAR
